BEGIN:VCALENDAR
VERSION:2.0
PRODID:-//Nordicamos - ECPv6.15.20//NONSGML v1.0//EN
CALSCALE:GREGORIAN
METHOD:PUBLISH
X-WR-CALNAME:Nordicamos
X-ORIGINAL-URL:https://nordicamos.com
X-WR-CALDESC:Eventos para Nordicamos
REFRESH-INTERVAL;VALUE=DURATION:PT1H
X-Robots-Tag:noindex
X-PUBLISHED-TTL:PT1H
BEGIN:VTIMEZONE
TZID:Europe/Madrid
BEGIN:DAYLIGHT
TZOFFSETFROM:+0100
TZOFFSETTO:+0200
TZNAME:CEST
DTSTART:20250330T010000
END:DAYLIGHT
BEGIN:STANDARD
TZOFFSETFROM:+0200
TZOFFSETTO:+0100
TZNAME:CET
DTSTART:20251026T010000
END:STANDARD
BEGIN:DAYLIGHT
TZOFFSETFROM:+0100
TZOFFSETTO:+0200
TZNAME:CEST
DTSTART:20260329T010000
END:DAYLIGHT
BEGIN:STANDARD
TZOFFSETFROM:+0200
TZOFFSETTO:+0100
TZNAME:CET
DTSTART:20261025T010000
END:STANDARD
BEGIN:DAYLIGHT
TZOFFSETFROM:+0100
TZOFFSETTO:+0200
TZNAME:CEST
DTSTART:20270328T010000
END:DAYLIGHT
BEGIN:STANDARD
TZOFFSETFROM:+0200
TZOFFSETTO:+0100
TZNAME:CET
DTSTART:20271031T010000
END:STANDARD
END:VTIMEZONE
BEGIN:VEVENT
DTSTART;TZID=Europe/Madrid:20260110T093000
DTEND;TZID=Europe/Madrid:20260110T133000
DTSTAMP:20260424T140203
CREATED:20251216T200847Z
LAST-MODIFIED:20260210T165908Z
UID:10573-1768037400-1768051800@nordicamos.com
SUMMARY:Ruta de marcha nórdica al cañón del Río Aulencia
DESCRIPTION:Quizás te pase lo mismo que nos pasó a nosotros cuando descubrimos esta zona y este cañón. Nos llevamos una grata sorpresa que queremos compartir contigo. \nEl borde superior indica el norte \nDescripción de la Ruta de Marcha Nórdica de Cuerda Herrera al cañón del Río Aulencia\nComenzamos esta ruta subiendo por un camino bordeado de encinas y pinos y como planta curiosa encontraremos Chumberas en bastantes puntos del recorrido. \nChumbera \nAl poco giramos a la derecha\, bajando por una pista bastante pronunciada hasta llegar al río. Te recuerdo que a la vuelta nos tocará subirla. \nAtravesamos el río por un acueducto muy estrecho\, en el que tendremos que extremar la precaución al cruzar a la margen contraria. \nAcueducto \nNos adentramos en el Cañón con cuidado en un par de tramos que tienen algo de complejidad. \nRio Aulencia \nAl llegar a la presa salimos a un nuevo camino que nos deja en una pista que nos llevará\, nuevamente\, al acueducto. \nPista \nVolvemos a cruzar con extrema precaución y deshacemos el camino por donde hemos venido. \nQué llevar\n\nRecuerda traer agua (mínimo un litro) para mantener una buena hidratación durante toda la ruta. Una hidratación correcta es necesaria para tener energía en el cuerpo y menos sensación de cansancio.\nAlgo de picar para mantener tus reservas de glucosa.\nBotas ligeras o zapatillas de montaña.  No traigas deportivas\, ya que la suela no está preparada para terreno montañoso y resbalan mucho.\nAntes de salir\, consulta la meteorología y trae ropa de abrigo y si es necesario de agua o cortavientos.\nLa meteorología puede cambiar repentinamente en áreas de montaña y más vale ir prevenidos.\n\nDatos técnicos de la ruta\n\nDISTANCIA: 13\,4 Km\nDESNIVEL: 355  m\nDIFICULTAD: Moderada. \nDURACIÓN: 4 horas aprox. \nTIPO DE RUTA: Circular.\n\nAdvertencia\nEstamos en un entorno de montaña y la meteorología y sus circunstancias son medianamente previsibles. Si antes de empezar vemos que la ruta no va a ser segura\, podemos decidir cambiar el itinerario e incluso\, cancelar la actividad.
URL:https://nordicamos.com/event/ruta-de-marcha-nordica-al-canon-del-rio-aulencia/
LOCATION:Valdemorillo. C/ Cuerda Herrera\, FXRG+X4C Valdemorillo
CATEGORIES:Actividad,Rutas de fin de semana
ATTACH;FMTTYPE=image/png:https://nordicamos.com/wp-content/uploads/2025/12/Ruta-deMarcha-Nordica-enero-26.png
ORGANIZER;CN="Nordicamos":MAILTO:info@nordicamos.com
END:VEVENT
END:VCALENDAR