BEGIN:VCALENDAR
VERSION:2.0
PRODID:-//Nordicamos - ECPv6.15.20//NONSGML v1.0//EN
CALSCALE:GREGORIAN
METHOD:PUBLISH
X-WR-CALNAME:Nordicamos
X-ORIGINAL-URL:https://nordicamos.com
X-WR-CALDESC:Eventos para Nordicamos
REFRESH-INTERVAL;VALUE=DURATION:PT1H
X-Robots-Tag:noindex
X-PUBLISHED-TTL:PT1H
BEGIN:VTIMEZONE
TZID:Europe/Madrid
BEGIN:DAYLIGHT
TZOFFSETFROM:+0100
TZOFFSETTO:+0200
TZNAME:CEST
DTSTART:20250330T010000
END:DAYLIGHT
BEGIN:STANDARD
TZOFFSETFROM:+0200
TZOFFSETTO:+0100
TZNAME:CET
DTSTART:20251026T010000
END:STANDARD
BEGIN:DAYLIGHT
TZOFFSETFROM:+0100
TZOFFSETTO:+0200
TZNAME:CEST
DTSTART:20260329T010000
END:DAYLIGHT
BEGIN:STANDARD
TZOFFSETFROM:+0200
TZOFFSETTO:+0100
TZNAME:CET
DTSTART:20261025T010000
END:STANDARD
BEGIN:DAYLIGHT
TZOFFSETFROM:+0100
TZOFFSETTO:+0200
TZNAME:CEST
DTSTART:20270328T010000
END:DAYLIGHT
BEGIN:STANDARD
TZOFFSETFROM:+0200
TZOFFSETTO:+0100
TZNAME:CET
DTSTART:20271031T010000
END:STANDARD
END:VTIMEZONE
BEGIN:VEVENT
DTSTART;TZID=Europe/Madrid:20260307T103000
DTEND;TZID=Europe/Madrid:20260307T120000
DTSTAMP:20260423T130353
CREATED:20260210T123828Z
LAST-MODIFIED:20260210T163322Z
UID:11031-1772879400-1772884800@nordicamos.com
SUMMARY:Taller de Nordic Dance
DESCRIPTION:Marchamos\, bailamos\, marchamos\, bailamos siempre con nuestros bastones. Buena música\, diversión\, risas. \nMarcha nórdica y baile\nNos preguntamos ¿por qué no combinar dos actividades divertidas y beneficiosas tanto para el cuerpo como para la mente? En este taller nos atrevemos a practicar marcha nórdica siguiendo diferentes coreografías donde el movimiento\, la coordinación y la diversión sean la base de esta jornada. \nDance\, solo falta el nordic. \nPrepárate para soltar el cuerpo y fluir con la música. Los pasos serán sencillos y sabrás ejecutarlos perfectamente y\, si no\, te reirás un buen rato. \nNo importa que sepas o no bailar\, lo más importante es disfrutar como críos y dejar la vergüenza a un lado\, siempre acompañados de nuestros bastones. \nBailar riendo \nTrabajaremos la coordinación a través de coreografías que nos harán sentir como Fred Astaire. ¡Diversión asegurada! \n 
URL:https://nordicamos.com/event/taller-de-nordic-dance-marzo-2026/
LOCATION:C.Villalba. Parking II Dehesa de Villalba\, MX2X+H9 Collado Villalba\, Madrid
CATEGORIES:Actividad,Salud,Talleres de fin de semana
ATTACH;FMTTYPE=image/png:https://nordicamos.com/wp-content/uploads/2026/02/taller-Nordic-Dance-marzo.png
ORGANIZER;CN="Nordicamos":MAILTO:info@nordicamos.com
END:VEVENT
BEGIN:VEVENT
DTSTART;TZID=Europe/Madrid:20260321T103000
DTEND;TZID=Europe/Madrid:20260321T120000
DTSTAMP:20260423T130353
CREATED:20260210T124755Z
LAST-MODIFIED:20260219T115723Z
UID:11035-1774089000-1774094400@nordicamos.com
SUMMARY:Taller de marcha nórdica y Chi Kung
DESCRIPTION:Combinamos marcha nórdica con Chi kung realizando un trabajo consciente\, relajado y beneficioso para el cuerpo y la mente. \nUna maravillosa manera de ralentizar el tiempo. Que nada rompa tu armonía interna. \nQue nada rompa tu armonía \nEl Chi kung\nEl término Chi Kung proviene de la palabra china Qi Gong que significa literalmente: Trabajo de la energía. \nEl Chi es la energía vital que nos mueve\, que nos da aliento y que recibimos de los alimentos\, del aire\, del sueño\, de las emociones positivas\, de la naturaleza\, el cielo y la tierra. A grandes rasgos. \nEnergía del sol \nCon los movimientos que realizamos trabajamos esa energía a la vez que nos relajamos de manera consciente\, sintiendo el movimiento y nuestro cuerpo. \nAl realizarlos lentamente bajamos la velocidad de nuestro sistema y calmamos la mente. \nBeneficios\n\nNos aporta calma mental\nFortalece las articulaciones\nActiva la musculatura\, sobre todo del tren inferior\nTrabaja la concentración.\nMejora la coordinación.\n\nComo puedes observar\, esta gimnasia milenaria que practican los chinos antes de entrar a su puesto de trabajo o en los parques de la ciudad parece que no es nada pero encierra mucho. \nPréstamo de bastones y seguro de accidentes incluído.
URL:https://nordicamos.com/event/taller-de-marcha-nordica-y-chi-kung-marzo-2026/
LOCATION:C.Villalba. Parking II Dehesa de Villalba\, MX2X+H9 Collado Villalba\, Madrid
CATEGORIES:Actividad,Salud,Talleres de fin de semana
ATTACH;FMTTYPE=image/png:https://nordicamos.com/wp-content/uploads/2026/02/Taller-Nordic-Chikung-marzo-2026-1.png
ORGANIZER;CN="Nordicamos":MAILTO:info@nordicamos.com
END:VEVENT
END:VCALENDAR