BEGIN:VCALENDAR
VERSION:2.0
PRODID:-//Nordicamos - ECPv6.15.20//NONSGML v1.0//EN
CALSCALE:GREGORIAN
METHOD:PUBLISH
X-ORIGINAL-URL:https://nordicamos.com
X-WR-CALDESC:Eventos para Nordicamos
REFRESH-INTERVAL;VALUE=DURATION:PT1H
X-Robots-Tag:noindex
X-PUBLISHED-TTL:PT1H
BEGIN:VTIMEZONE
TZID:Europe/Madrid
BEGIN:DAYLIGHT
TZOFFSETFROM:+0100
TZOFFSETTO:+0200
TZNAME:CEST
DTSTART:20240331T010000
END:DAYLIGHT
BEGIN:STANDARD
TZOFFSETFROM:+0200
TZOFFSETTO:+0100
TZNAME:CET
DTSTART:20241027T010000
END:STANDARD
BEGIN:DAYLIGHT
TZOFFSETFROM:+0100
TZOFFSETTO:+0200
TZNAME:CEST
DTSTART:20250330T010000
END:DAYLIGHT
BEGIN:STANDARD
TZOFFSETFROM:+0200
TZOFFSETTO:+0100
TZNAME:CET
DTSTART:20251026T010000
END:STANDARD
BEGIN:DAYLIGHT
TZOFFSETFROM:+0100
TZOFFSETTO:+0200
TZNAME:CEST
DTSTART:20260329T010000
END:DAYLIGHT
BEGIN:STANDARD
TZOFFSETFROM:+0200
TZOFFSETTO:+0100
TZNAME:CET
DTSTART:20261025T010000
END:STANDARD
END:VTIMEZONE
BEGIN:VEVENT
DTSTART;TZID=Europe/Madrid:20250322T093000
DTEND;TZID=Europe/Madrid:20250322T133000
DTSTAMP:20260420T130320
CREATED:20250302T164544Z
LAST-MODIFIED:20260211T171428Z
UID:7834-1742635800-1742650200@nordicamos.com
SUMMARY:Ruta de Marcha Nórdica al pico Abantos por los miradores
DESCRIPTION:Ruta por los bonitos pinares de Abantos. \nUn tanto exigente por el desnivel positivo que tiene\, llegando a una altura de 1753 metros\, pero que nos dejará con un buen sabor de boca después de haber disfrutado de los pinares y las espectaculares vistas desde los miradores y el propio Pico. \nEn la imagen de abajo puedes ver el mapa perteneciente a esta salida. \nEl borde superior del mapa indica el norte \n  \nQué llevar a la ruta de marcha nórdica\n\nRecuerda traer agua (mínimo un litro) para mantener una buena hidratación durante toda la ruta. Una hidratación correcta es necesaria para tener energía en el cuerpo y menos sensación de cansancio.\nAlgo de picar para mantener tus reservas de glucosa.\nBotas ligeras o zapatillas de montaña.  No traigas deportivas\, ya que la suela no está preparada para terreno montañoso y resbalan mucho.\nAntes de salir\, consulta la meteorología y trae ropa de abrigo y si es necesario de agua o cortavientos.\nLa meteorología puede cambiar repentinamente en áreas de montaña y más vale ir prevenidos.\n\nDatos técnicos de la ruta\n\nDISTANCIA: 11\,7 Km\nDESNIVEL: 659 m\nDIFICULTAD: Moderada\nDURACIÓN: Aproximadamente 4 h\nTIPO DE RUTA: Circular\n\nAdvertencia\nEstamos en un entorno de montaña y la meteorología y sus circunstancias son medianamente previsibles. Si antes de empezar vemos que la ruta no va a ser segura\, podemos decidir cambiar el itinerario e incluso\, cancelar la actividad. \nNo sobrevalores tus fuerzas. \nPor favor\, trae la equipación adecuada\, si no\, es posible que\, por tu seguridad\, no puedas realizar la ruta. Si tienes dudas consúltanos.
URL:https://nordicamos.com/event/ruta-de-marcha-nordica-al-pico-abantos-por-los-miradores/
CATEGORIES:Actividad,Rutas de fin de semana
ORGANIZER;CN="Nordicamos":MAILTO:info@nordicamos.com
END:VEVENT
END:VCALENDAR