BEGIN:VCALENDAR
VERSION:2.0
PRODID:-//Nordicamos - ECPv6.15.20//NONSGML v1.0//EN
CALSCALE:GREGORIAN
METHOD:PUBLISH
X-WR-CALNAME:Nordicamos
X-ORIGINAL-URL:https://nordicamos.com
X-WR-CALDESC:Eventos para Nordicamos
REFRESH-INTERVAL;VALUE=DURATION:PT1H
X-Robots-Tag:noindex
X-PUBLISHED-TTL:PT1H
BEGIN:VTIMEZONE
TZID:Europe/Madrid
BEGIN:DAYLIGHT
TZOFFSETFROM:+0100
TZOFFSETTO:+0200
TZNAME:CEST
DTSTART:20240331T010000
END:DAYLIGHT
BEGIN:STANDARD
TZOFFSETFROM:+0200
TZOFFSETTO:+0100
TZNAME:CET
DTSTART:20241027T010000
END:STANDARD
BEGIN:DAYLIGHT
TZOFFSETFROM:+0100
TZOFFSETTO:+0200
TZNAME:CEST
DTSTART:20250330T010000
END:DAYLIGHT
BEGIN:STANDARD
TZOFFSETFROM:+0200
TZOFFSETTO:+0100
TZNAME:CET
DTSTART:20251026T010000
END:STANDARD
BEGIN:DAYLIGHT
TZOFFSETFROM:+0100
TZOFFSETTO:+0200
TZNAME:CEST
DTSTART:20260329T010000
END:DAYLIGHT
BEGIN:STANDARD
TZOFFSETFROM:+0200
TZOFFSETTO:+0100
TZNAME:CET
DTSTART:20261025T010000
END:STANDARD
END:VTIMEZONE
BEGIN:VEVENT
DTSTART;TZID=Europe/Madrid:20251031T100000
DTEND;TZID=Europe/Madrid:20251031T120000
DTSTAMP:20260424T134907
CREATED:20250921T205629Z
LAST-MODIFIED:20260211T170217Z
UID:9585-1761904800-1761912000@nordicamos.com
SUMMARY:Ruta de marcha nórdica clásica a la dehesa de la Golondrina
DESCRIPTION:La dehesa de la Golondrina\, el cerro de la Peña del Sol y el de las Ruedas conforman esta ruta desde la que podremos disfrutar de unas maravillosas vistas de la sierra\, de casi 360º. \nEl borde superior indica el Norte \nDescripción de la ruta de marcha nórdica clásica a la dehesa de la Golondrina pasando por la Fuente del Cazador\nComenzamos la ruta desde el parking de la dehesa subiendo por la pista ancha en ligero ascenso. \nPasamos al lado de la ermita de San Antonio y continuamos el camino hasta el primer cruce\, lugar en el que seguimos por la izquierda hasta llegar a un almacén en el que los vaqueros guardan el pienso para el ganado. \nAlmacén \nVolvemos\, poco después\, a la misma pista que hemos abandonado\, pasando por la fuente del raso y en el siguiente cruce desviándonos a la fuente del Cazador. \nFuente del cazador \nRetomamos la pista y seguimos ascendiendo para llegar al mirador del cerro de las Ruedas donde podemos observar unas preciosas vistas de la sierra si el tiempo lo permite. \nMirador del cerro de las Ruedas \nA partir de aquí\, la vuelta la realizamos por el mismo camino por el que hemos venido\, ahora si\, todo cuesta abajo. \nQué llevar\n\nRecuerda traer agua (mínimo un litro) para mantener una buena hidratación durante toda la ruta. Una hidratación correcta es necesaria para tener energía en el cuerpo y menos sensación de cansancio.\nBotas ligeras o zapatillas de montaña.  No traigas deportivas\, ya que la suela no está preparada para terreno montañoso y resbalan mucho.\nAntes de salir\, consulta la meteorología y trae algo de ropa de abrigo y si es necesario de agua o cortavientos.\nLa meteorología puede cambiar repentinamente en áreas de montaña y más vale ir prevenidos.\nPara la ruta de la tarde es NECESARIA LUZ FRONTAL\n\nDatos técnicos de la ruta\n\nDISTANCIA: 7\,3 Km\nDESNIVEL:204 m\nDIFICULTAD: Fácil\nDURACIÓN: 2 horas\nTIPO DE RUTA: Lineal\n\nAdvertencia\nEstamos en un entorno de montaña y la meteorología y sus circunstancias son medianamente previsibles. Si antes de empezar vemos que la ruta no va a ser segura\, podemos decidir cambiar el itinerario e incluso\, cancelar la actividad. \nPor favor\, trae la equipación adecuada\, si no\, es posible que\, por tu seguridad\, no puedas realizar la ruta. Si tienes dudas consúltanos.
URL:https://nordicamos.com/event/ruta-de-marcha-nordica-clasica-a-la-dehesa-de-la-golondrina/
LOCATION:Navacerrada. Parking Dehesa de la Golondrina\, PXCG+VR Navacerrada
CATEGORIES:Actividad,Ruta del viernes
ATTACH;FMTTYPE=image/png:https://nordicamos.com/wp-content/uploads/2025/09/Ruta-de-marcha-nordica-por-la-dehesa-de-la-golondrina.png
ORGANIZER;CN="Nordicamos":MAILTO:info@nordicamos.com
END:VEVENT
END:VCALENDAR