BEGIN:VCALENDAR
VERSION:2.0
PRODID:-//Nordicamos - ECPv6.15.20//NONSGML v1.0//EN
CALSCALE:GREGORIAN
METHOD:PUBLISH
X-WR-CALNAME:Nordicamos
X-ORIGINAL-URL:https://nordicamos.com
X-WR-CALDESC:Eventos para Nordicamos
REFRESH-INTERVAL;VALUE=DURATION:PT1H
X-Robots-Tag:noindex
X-PUBLISHED-TTL:PT1H
BEGIN:VTIMEZONE
TZID:Europe/Madrid
BEGIN:DAYLIGHT
TZOFFSETFROM:+0100
TZOFFSETTO:+0200
TZNAME:CEST
DTSTART:20240331T010000
END:DAYLIGHT
BEGIN:STANDARD
TZOFFSETFROM:+0200
TZOFFSETTO:+0100
TZNAME:CET
DTSTART:20241027T010000
END:STANDARD
BEGIN:DAYLIGHT
TZOFFSETFROM:+0100
TZOFFSETTO:+0200
TZNAME:CEST
DTSTART:20250330T010000
END:DAYLIGHT
BEGIN:STANDARD
TZOFFSETFROM:+0200
TZOFFSETTO:+0100
TZNAME:CET
DTSTART:20251026T010000
END:STANDARD
BEGIN:DAYLIGHT
TZOFFSETFROM:+0100
TZOFFSETTO:+0200
TZNAME:CEST
DTSTART:20260329T010000
END:DAYLIGHT
BEGIN:STANDARD
TZOFFSETFROM:+0200
TZOFFSETTO:+0100
TZNAME:CET
DTSTART:20261025T010000
END:STANDARD
END:VTIMEZONE
BEGIN:VEVENT
DTSTART;TZID=Europe/Madrid:20250711T090000
DTEND;TZID=Europe/Madrid:20250711T110000
DTSTAMP:20260424T040528
CREATED:20250709T104812Z
LAST-MODIFIED:20260211T170653Z
UID:8758-1752224400-1752231600@nordicamos.com
SUMMARY:Ruta de marcha nórdica a la Campanilla
DESCRIPTION:Cuando llegues a la Fuente de la Campanilla\, bebe de su fresca agua\, pide un deseo y toca la campana. Todo un ritual en uno de los parajes más hermosos de la Sierra de Madrid. \n \nRuta de Marcha nórdica circular a la Fuente de la Campanilla\nIniciamos la ruta desde el último parking de la Barranca\, caminando por la pista. Cruzamos el segundo embalse\, el embalse del Ejército del Aire\, con unas preciosas vistas de la Maliciosa. \n  \nEmbalse del Ejército del Aire. \nTras pasar la puerta\, seguimos la ruta de marcha nórdica subiendo  por el bosque hasta llegar al arroyo de la Maliciosa\, que cruzaremos para continuar\, en ascenso\, por una senda entre pinos y un mar de helechos. \nMar de helechos. \nTras dos repechos con mayor desnivel llegamos a la pista\, giramos a la izquierda y bajamos hacia la fuente\, donde podemos beber y tomar el sendero que nos dejará de nuevo en la pista. Siguiéndola llegamos al cruce de la subida a la Campanilla. \nCruce a la fuente. \nDespués del ritual y de beber seguimos nuesta marcha bajando por la pista que nos devolverá al Parking. \nPista de vuelta. \nQué llevar\n\nPara la ruta de la tarde es ACONSEJABLE LA LUZ FRONTAL\nRecuerda traer agua (mínimo un litro) para mantener una buena hidratación durante toda la ruta. Una hidratación correcta es necesaria para tener energía en el cuerpo y menos sensación de cansancio.\nAlgo de picar para mantener tus reservas de glucosa.\nBotas ligeras o zapatillas de montaña.  No traigas deportivas\, ya que la suela no está preparada para terreno montañoso y resbalan mucho.\nAntes de salir\, consulta la meteorología y trae algo de ropa de abrigo y si es necesario de agua o cortavientos.\nLa meteorología puede cambiar repentinamente en áreas de montaña y más vale ir prevenidos.\n\nDatos técnicos de la ruta\n\nDISTANCIA:  6 Km\nDESNIVEL: 244 m\nDIFICULTAD: Fácil\nDURACIÓN:  2 horas\nTIPO DE RUTA: Circular\n\nAdvertencia\nEstamos en un entorno de montaña y la meteorología y sus circunstancias son medianamente previsibles. Si antes de empezar vemos que la ruta no va a ser segura\, podemos decidir cambiar el itinerario e incluso\, cancelar la actividad. \nPor favor\, trae la equipación adecuada\, si no\, es posible que\, por tu seguridad\, no puedas realizar la ruta. Si tienes dudas consúltanos.
URL:https://nordicamos.com/event/ruta-de-marcha-nordica-a-la-campanilla/
LOCATION:Navacerrada. La Barranca. Parking de los Embalses\, Q224+XQG Casa Forestal Tablada\, Madrid\, España
CATEGORIES:Actividad,Ruta del viernes
ATTACH;FMTTYPE=image/png:https://nordicamos.com/wp-content/uploads/2025/07/Ruta-de-marcha-nordica-a-la-fuente-de-la-Campanilla.png
ORGANIZER;CN="Nordicamos":MAILTO:info@nordicamos.com
END:VEVENT
END:VCALENDAR