BEGIN:VCALENDAR
VERSION:2.0
PRODID:-//Nordicamos - ECPv6.15.20//NONSGML v1.0//EN
CALSCALE:GREGORIAN
METHOD:PUBLISH
X-ORIGINAL-URL:https://nordicamos.com
X-WR-CALDESC:Eventos para Nordicamos
REFRESH-INTERVAL;VALUE=DURATION:PT1H
X-Robots-Tag:noindex
X-PUBLISHED-TTL:PT1H
BEGIN:VTIMEZONE
TZID:Europe/Madrid
BEGIN:DAYLIGHT
TZOFFSETFROM:+0100
TZOFFSETTO:+0200
TZNAME:CEST
DTSTART:20240331T010000
END:DAYLIGHT
BEGIN:STANDARD
TZOFFSETFROM:+0200
TZOFFSETTO:+0100
TZNAME:CET
DTSTART:20241027T010000
END:STANDARD
BEGIN:DAYLIGHT
TZOFFSETFROM:+0100
TZOFFSETTO:+0200
TZNAME:CEST
DTSTART:20250330T010000
END:DAYLIGHT
BEGIN:STANDARD
TZOFFSETFROM:+0200
TZOFFSETTO:+0100
TZNAME:CET
DTSTART:20251026T010000
END:STANDARD
BEGIN:DAYLIGHT
TZOFFSETFROM:+0100
TZOFFSETTO:+0200
TZNAME:CEST
DTSTART:20260329T010000
END:DAYLIGHT
BEGIN:STANDARD
TZOFFSETFROM:+0200
TZOFFSETTO:+0100
TZNAME:CET
DTSTART:20261025T010000
END:STANDARD
END:VTIMEZONE
BEGIN:VEVENT
DTSTART;TZID=Europe/Madrid:20250620T093000
DTEND;TZID=Europe/Madrid:20250620T120000
DTSTAMP:20260424T204610
CREATED:20250513T122635Z
LAST-MODIFIED:20260211T170948Z
UID:8425-1750411800-1750420800@nordicamos.com
SUMMARY:Ruta de marcha nórdica a Walpurgis por Ortiz
DESCRIPTION:El Real Sanatorio de Guadarrama fue el edificio en el que se rodó la mítica película de terror «La noche de Walpurgis». \nHoy no queda nada de ese edificio y en su lugar tenemos una extensa pradera con unas maravillosas vistas. \nEl borde superior indica el norte \nDescripción de la ruta de marcha nórdica desde La Barranca a Walpurgis por la Senda Ortiz\nSalimos desde el último parking de La Barranca\, iniciando la ruta por la pista forestal que transcurre junto a los dos embalses\, el del Pueblo de Navacerrada y el del Ejército del Aire\, y va relativamente paralela al río Navacerrada. \nEmbalse del Pueblo de Navacerrada \nAl llegar a una curva muy pronunciada a la derecha\, encontramos un camino que surge a nuestra izquierda. Esa es la famosa senda Ortiz\, por la que transcurriremos hasta llegar al destino. \nSenda Ortiz \nAl principio\, el camino es ancho y cómodo en ligero ascenso. En un punto nos encontramos  que la pendiente se agudiza y encontramos zona con bastantes piedras y raíces. \nPiedras y raíces \nEn otro punto del camino\,  la subida se hace más amable y caminamos en la línea de nivel de la montaña \nVistas \nTras cruzar el arroyo del chiquillo a unos 150 m llegamos a la pradera que hemos bautizado con el nombre de  Walpurgis\, lugar en el que se encontraba el antiguo Hospital de Tuberculosos de Guadarrama\, que fue demolido en 1994. \nExplanada del antiguo hospital \nTodo lo que queda es bajar e Iniciamos el camino de vuelta por el mismo trazado que a la subida\, teniendo especial precaución en la progresión\, con las raíces y piedras que surcan el suelo. \nQué llevar\n\nPara la ruta de la tarde es ACONSEJABLE LA LUZ FRONTAL\nRecuerda traer agua (mínimo un litro) para mantener una buena hidratación durante toda la ruta. Una hidratación correcta es necesaria para tener energía en el cuerpo y menos sensación de cansancio.\nBotas ligeras o zapatillas de montaña.  No traigas deportivas\, ya que la suela no está preparada para terreno montañoso y resbalan mucho.\nAntes de salir\, consulta la meteorología y trae algo de ropa de abrigo y si es necesario de agua o cortavientos.\nLa meteorología puede cambiar repentinamente en áreas de montaña y más vale ir prevenidos.\n\nDatos técnicos de la ruta\n\nDISTANCIA: 8 Km\nDESNIVEL:  258 m\nDIFICULTAD: Moderada\nDURACIÓN:  2:15 horas\nTIPO DE RUTA: Lineal \n\nAdvertencia\nEstamos en un entorno de montaña y la meteorología y sus circunstancias son medianamente previsibles. Si antes de empezar vemos que la ruta no va a ser segura\, podemos decidir cambiar el itinerario e incluso\, cancelar la actividad. \nPor favor\, trae la equipación adecuada\, si no\, es posible que\, por tu seguridad\, no puedas realizar la ruta. Si tienes dudas consúltanos.
URL:https://nordicamos.com/event/ruta-de-marcha-nordica-a-walpurgis-por-ortiz/
LOCATION:Navacerrada. La Barranca. Parking de los Embalses\, Q224+XQG Casa Forestal Tablada\, Madrid\, España
CATEGORIES:Actividad,Ruta del viernes
ATTACH;FMTTYPE=image/png:https://nordicamos.com/wp-content/uploads/2025/05/Ruta-de-marcha-nordica-a-Walpurgis-1.png
ORGANIZER;CN="Nordicamos":MAILTO:info@nordicamos.com
END:VEVENT
BEGIN:VEVENT
DTSTART;TZID=Europe/Madrid:20250620T093000
DTEND;TZID=Europe/Madrid:20250620T120000
DTSTAMP:20260424T204610
CREATED:20250513T122635Z
LAST-MODIFIED:20260211T170948Z
UID:8425-1750411800-1750420800@nordicamos.com
SUMMARY:Ruta de marcha nórdica a Walpurgis por Ortiz
DESCRIPTION:El Real Sanatorio de Guadarrama fue el edificio en el que se rodó la mítica película de terror «La noche de Walpurgis». \nHoy no queda nada de ese edificio y en su lugar tenemos una extensa pradera con unas maravillosas vistas. \nEl borde superior indica el norte \nDescripción de la ruta de marcha nórdica desde La Barranca a Walpurgis por la Senda Ortiz\nSalimos desde el último parking de La Barranca\, iniciando la ruta por la pista forestal que transcurre junto a los dos embalses\, el del Pueblo de Navacerrada y el del Ejército del Aire\, y va relativamente paralela al río Navacerrada. \nEmbalse del Pueblo de Navacerrada \nAl llegar a una curva muy pronunciada a la derecha\, encontramos un camino que surge a nuestra izquierda. Esa es la famosa senda Ortiz\, por la que transcurriremos hasta llegar al destino. \nSenda Ortiz \nAl principio\, el camino es ancho y cómodo en ligero ascenso. En un punto nos encontramos  que la pendiente se agudiza y encontramos zona con bastantes piedras y raíces. \nPiedras y raíces \nEn otro punto del camino\,  la subida se hace más amable y caminamos en la línea de nivel de la montaña \nVistas \nTras cruzar el arroyo del chiquillo a unos 150 m llegamos a la pradera que hemos bautizado con el nombre de  Walpurgis\, lugar en el que se encontraba el antiguo Hospital de Tuberculosos de Guadarrama\, que fue demolido en 1994. \nExplanada del antiguo hospital \nTodo lo que queda es bajar e Iniciamos el camino de vuelta por el mismo trazado que a la subida\, teniendo especial precaución en la progresión\, con las raíces y piedras que surcan el suelo. \nQué llevar\n\nPara la ruta de la tarde es ACONSEJABLE LA LUZ FRONTAL\nRecuerda traer agua (mínimo un litro) para mantener una buena hidratación durante toda la ruta. Una hidratación correcta es necesaria para tener energía en el cuerpo y menos sensación de cansancio.\nBotas ligeras o zapatillas de montaña.  No traigas deportivas\, ya que la suela no está preparada para terreno montañoso y resbalan mucho.\nAntes de salir\, consulta la meteorología y trae algo de ropa de abrigo y si es necesario de agua o cortavientos.\nLa meteorología puede cambiar repentinamente en áreas de montaña y más vale ir prevenidos.\n\nDatos técnicos de la ruta\n\nDISTANCIA: 8 Km\nDESNIVEL:  258 m\nDIFICULTAD: Moderada\nDURACIÓN:  2:15 horas\nTIPO DE RUTA: Lineal \n\nAdvertencia\nEstamos en un entorno de montaña y la meteorología y sus circunstancias son medianamente previsibles. Si antes de empezar vemos que la ruta no va a ser segura\, podemos decidir cambiar el itinerario e incluso\, cancelar la actividad. \nPor favor\, trae la equipación adecuada\, si no\, es posible que\, por tu seguridad\, no puedas realizar la ruta. Si tienes dudas consúltanos.
URL:https://nordicamos.com/event/ruta-de-marcha-nordica-a-walpurgis-por-ortiz/
LOCATION:Navacerrada. La Barranca. Parking de los Embalses\, Q224+XQG Casa Forestal Tablada\, Madrid\, España
CATEGORIES:Actividad,Ruta del viernes
ATTACH;FMTTYPE=image/png:https://nordicamos.com/wp-content/uploads/2025/05/Ruta-de-marcha-nordica-a-Walpurgis-1.png
ORGANIZER;CN="Nordicamos":MAILTO:info@nordicamos.com
END:VEVENT
END:VCALENDAR