BEGIN:VCALENDAR
VERSION:2.0
PRODID:-//Nordicamos - ECPv6.15.20//NONSGML v1.0//EN
CALSCALE:GREGORIAN
METHOD:PUBLISH
X-WR-CALNAME:Nordicamos
X-ORIGINAL-URL:https://nordicamos.com
X-WR-CALDESC:Eventos para Nordicamos
REFRESH-INTERVAL;VALUE=DURATION:PT1H
X-Robots-Tag:noindex
X-PUBLISHED-TTL:PT1H
BEGIN:VTIMEZONE
TZID:Europe/Madrid
BEGIN:DAYLIGHT
TZOFFSETFROM:+0100
TZOFFSETTO:+0200
TZNAME:CEST
DTSTART:20240331T010000
END:DAYLIGHT
BEGIN:STANDARD
TZOFFSETFROM:+0200
TZOFFSETTO:+0100
TZNAME:CET
DTSTART:20241027T010000
END:STANDARD
BEGIN:DAYLIGHT
TZOFFSETFROM:+0100
TZOFFSETTO:+0200
TZNAME:CEST
DTSTART:20250330T010000
END:DAYLIGHT
BEGIN:STANDARD
TZOFFSETFROM:+0200
TZOFFSETTO:+0100
TZNAME:CET
DTSTART:20251026T010000
END:STANDARD
BEGIN:DAYLIGHT
TZOFFSETFROM:+0100
TZOFFSETTO:+0200
TZNAME:CEST
DTSTART:20260329T010000
END:DAYLIGHT
BEGIN:STANDARD
TZOFFSETFROM:+0200
TZOFFSETTO:+0100
TZNAME:CET
DTSTART:20261025T010000
END:STANDARD
END:VTIMEZONE
BEGIN:VEVENT
DTSTART;TZID=Europe/Madrid:20250521T093000
DTEND;TZID=Europe/Madrid:20250521T113000
DTSTAMP:20260420T070243
CREATED:20250521T163240Z
LAST-MODIFIED:20260211T170926Z
UID:8485-1747819800-1747827000@nordicamos.com
SUMMARY:Ruta de marcha nórdica de Cantocochino a la Charca Verde Mayo 25
DESCRIPTION:RUTA DE MARCHA NÓRDICA DE CANTOCOCHINO A LA CHARCA VERDE\n\n23 mayo-09:30 – 11:30\n10€ \n\n\n\n\nVamos a conocer uno de los lugares más populares del Parque de la Pedriza. La Charca verde está enclavada en un entorno precioso del Río Manzanares rodeada de rocas y cascadas. \nMenos mal que toda la zona está protegida y ya no se puede hacer lo que antaño hacía la gente degradando el lugar. \n\n \nEl borde superior indica el norte \n\nDescripción de la ruta de marcha nórdica de Cantochino a Piedra Partida\, Charca Verde y mirador del Manzanares\nEmpezamos en el parking de Cantocochino\, ya sin chiringuitos\, donde tomar una bebida fresca al terminar la ruta de marcha nórdica. \nCruzamos el puente sobre el Río Manzanares y avanzamos unos metros por la Autopista para abandonarla tomando un sendero que nos lleva por el pinar en ascenso suave. \n\n \nSendero \n\nNos encontraremos con un tramo que tiene muchas raíces\, que nos servirán de escaleras y bastante piedra suelta. Aumentar la atención. \nDespués de atravesar un bosque de pinos llegamos al vivero que bordeamos para llegar al primer punto de interés de la ruta Piedra Partida. \n\n \nPiedra partida \n\n  \nDe ahí vamos al segundo punto\, la archiconocida\, Charcha Verde. Tendremos que avanzar con las dragoneras separadas de los bastones\, ya que hay alguna piedra que saltar. \n\n \nLa Charca Verde \n\nVolvemos sobre nuestros pasos y nos dirigimos hacia el puente del vivero para cruzar el río y subir al último punto\, el mirador desde el que veremos la fuerza del Manzanares. \n\n \nRío Manzanares \n\nCon la vista “nublada” de tanta belleza\, volvemos al puente del vivero para regresar al punto de partida de esta ruta de marcha nórdica\, esta vez\, por un camino que baja hacia el río y transcurre paralelo a él en algún tramo. \n\n \nCamino con raíces y piedras \n\nHay que tener precaución en algunas zonas con las piedras y las raíces de los árboles. \nQué llevar\n\nPara la ruta de la tarde es ACONSEJABLE LA LUZ FRONTAL\nRecuerda traer agua (mínimo un litro) para mantener una buena hidratación durante toda la ruta. Una hidratación correcta es necesaria para tener energía en el cuerpo y menos sensación de cansancio.\nBotas ligeras o zapatillas de montaña.  No traigas deportivas\, ya que la suela no está preparada para terreno montañoso y resbalan mucho.\nAntes de salir\, consulta la meteorología y trae algo de ropa de abrigo y si es necesario de agua o cortavientos.\nLa meteorología puede cambiar repentinamente en áreas de montaña y más vale ir prevenidos.\n\nDatos técnicos de la ruta\n\nDISTANCIA:  7\,1 Km\nDESNIVEL: 164 m\nDIFICULTAD: Moderada\nDURACIÓN:  2 horas\nTIPO DE RUTA: Circular \n\nAdvertencia\nEstamos en un entorno de montaña y la meteorología y sus circunstancias son medianamente previsibles. Si antes de empezar vemos que la ruta no va a ser segura\, podemos decidir cambiar el itinerario e incluso\, cancelar la actividad. \nPor favor\, trae la equipación adecuada\, si no\, es posible que\, por tu seguridad\, no puedas realizar la ruta. Si tienes dudas consúltanos.
URL:https://nordicamos.com/event/ruta-de-marcha-nordica-de-cantocochino-a-la-charca-verde-mayo-25/
LOCATION:Manzanares. La Pedriza. Parking de Cantocochino\, P4X3+PH Manzanares el Real\, Madrid
ATTACH;FMTTYPE=image/png:https://nordicamos.com/wp-content/uploads/2025/04/Ruta-de-marcha-nordica-a-la-charca-verde.png
ORGANIZER;CN="Nordicamos":MAILTO:info@nordicamos.com
END:VEVENT
BEGIN:VEVENT
DTSTART;TZID=Europe/Madrid:20250523T093000
DTEND;TZID=Europe/Madrid:20250523T113000
DTSTAMP:20260420T070243
CREATED:20250423T172941Z
LAST-MODIFIED:20260211T171046Z
UID:8172-1747992600-1747999800@nordicamos.com
SUMMARY:Ruta de marcha nórdica de Cantocochino a la Charca Verde
DESCRIPTION:Vamos a conocer uno de los lugares más populares del Parque de la Pedriza. La Charca verde está enclavada en un entorno precioso del Río Manzanares rodeada de rocas y cascadas. \nMenos mal que toda la zona está protegida y ya no se puede hacer lo que antaño hacía la gente degradando el lugar. \nEl borde superior indica el norte \nDescripción de la ruta de marcha nórdica de Cantochino a Piedra Partida\, Charca Verde y mirador del Manzanares\nEmpezamos en el parking de Cantocochino\, ya sin chiringuitos\, donde tomar una bebida fresca al terminar la ruta de marcha nórdica. \nCruzamos el puente sobre el Río Manzanares y avanzamos unos metros por la Autopista para abandonarla tomando un sendero que nos lleva por el pinar en ascenso suave. \nSendero \nNos encontraremos con un tramo que tiene muchas raíces\, que nos servirán de escaleras y bastante piedra suelta. Aumentar la atención. \nDespués de atravesar un bosque de pinos llegamos al vivero que bordeamos para llegar al primer punto de interés de la ruta Piedra Partida. \nPiedra partida \n  \nDe ahí vamos al segundo punto\, la archiconocida\, Charcha Verde. Tendremos que avanzar con las dragoneras separadas de los bastones\, ya que hay alguna piedra que saltar. \nLa Charca Verde \nVolvemos sobre nuestros pasos y nos dirigimos hacia el puente del vivero para cruzar el río y subir al último punto\, el mirador desde el que veremos la fuerza del Manzanares. \nRío Manzanares \nCon la vista “nublada” de tanta belleza\, volvemos al puente del vivero para regresar al punto de partida de esta ruta de marcha nórdica\, esta vez\, por un camino que baja hacia el río y transcurre paralelo a él en algún tramo. \nCamino con raíces y piedras \nHay que tener precaución en algunas zonas con las piedras y las raíces de los árboles. \nQué llevar\n\nPara la ruta de la tarde es ACONSEJABLE LA LUZ FRONTAL\nRecuerda traer agua (mínimo un litro) para mantener una buena hidratación durante toda la ruta. Una hidratación correcta es necesaria para tener energía en el cuerpo y menos sensación de cansancio.\nBotas ligeras o zapatillas de montaña.  No traigas deportivas\, ya que la suela no está preparada para terreno montañoso y resbalan mucho.\nAntes de salir\, consulta la meteorología y trae algo de ropa de abrigo y si es necesario de agua o cortavientos.\nLa meteorología puede cambiar repentinamente en áreas de montaña y más vale ir prevenidos.\n\nDatos técnicos de la ruta\n\nDISTANCIA:  7\,1 Km\nDESNIVEL: 164 m\nDIFICULTAD: Moderada\nDURACIÓN:  2 horas\nTIPO DE RUTA: Circular \n\nAdvertencia\nEstamos en un entorno de montaña y la meteorología y sus circunstancias son medianamente previsibles. Si antes de empezar vemos que la ruta no va a ser segura\, podemos decidir cambiar el itinerario e incluso\, cancelar la actividad. \nPor favor\, trae la equipación adecuada\, si no\, es posible que\, por tu seguridad\, no puedas realizar la ruta. Si tienes dudas consúltanos.
URL:https://nordicamos.com/event/ruta-de-marcha-nordica-de-cantocochino-a-la-charca-verde/
LOCATION:Manzanares. La Pedriza. Parking de Cantocochino\, P4X3+PH Manzanares el Real\, Madrid
CATEGORIES:Actividad,Ruta del viernes
ATTACH;FMTTYPE=image/png:https://nordicamos.com/wp-content/uploads/2025/04/Ruta-de-marcha-nordica-a-la-charca-verde.png
ORGANIZER;CN="Nordicamos":MAILTO:info@nordicamos.com
END:VEVENT
BEGIN:VEVENT
DTSTART;TZID=Europe/Madrid:20250523T093000
DTEND;TZID=Europe/Madrid:20250523T113000
DTSTAMP:20260420T070243
CREATED:20250423T172941Z
LAST-MODIFIED:20260211T171046Z
UID:8172-1747992600-1747999800@nordicamos.com
SUMMARY:Ruta de marcha nórdica de Cantocochino a la Charca Verde
DESCRIPTION:Vamos a conocer uno de los lugares más populares del Parque de la Pedriza. La Charca verde está enclavada en un entorno precioso del Río Manzanares rodeada de rocas y cascadas. \nMenos mal que toda la zona está protegida y ya no se puede hacer lo que antaño hacía la gente degradando el lugar. \nEl borde superior indica el norte \nDescripción de la ruta de marcha nórdica de Cantochino a Piedra Partida\, Charca Verde y mirador del Manzanares\nEmpezamos en el parking de Cantocochino\, ya sin chiringuitos\, donde tomar una bebida fresca al terminar la ruta de marcha nórdica. \nCruzamos el puente sobre el Río Manzanares y avanzamos unos metros por la Autopista para abandonarla tomando un sendero que nos lleva por el pinar en ascenso suave. \nSendero \nNos encontraremos con un tramo que tiene muchas raíces\, que nos servirán de escaleras y bastante piedra suelta. Aumentar la atención. \nDespués de atravesar un bosque de pinos llegamos al vivero que bordeamos para llegar al primer punto de interés de la ruta Piedra Partida. \nPiedra partida \n  \nDe ahí vamos al segundo punto\, la archiconocida\, Charcha Verde. Tendremos que avanzar con las dragoneras separadas de los bastones\, ya que hay alguna piedra que saltar. \nLa Charca Verde \nVolvemos sobre nuestros pasos y nos dirigimos hacia el puente del vivero para cruzar el río y subir al último punto\, el mirador desde el que veremos la fuerza del Manzanares. \nRío Manzanares \nCon la vista “nublada” de tanta belleza\, volvemos al puente del vivero para regresar al punto de partida de esta ruta de marcha nórdica\, esta vez\, por un camino que baja hacia el río y transcurre paralelo a él en algún tramo. \nCamino con raíces y piedras \nHay que tener precaución en algunas zonas con las piedras y las raíces de los árboles. \nQué llevar\n\nPara la ruta de la tarde es ACONSEJABLE LA LUZ FRONTAL\nRecuerda traer agua (mínimo un litro) para mantener una buena hidratación durante toda la ruta. Una hidratación correcta es necesaria para tener energía en el cuerpo y menos sensación de cansancio.\nBotas ligeras o zapatillas de montaña.  No traigas deportivas\, ya que la suela no está preparada para terreno montañoso y resbalan mucho.\nAntes de salir\, consulta la meteorología y trae algo de ropa de abrigo y si es necesario de agua o cortavientos.\nLa meteorología puede cambiar repentinamente en áreas de montaña y más vale ir prevenidos.\n\nDatos técnicos de la ruta\n\nDISTANCIA:  7\,1 Km\nDESNIVEL: 164 m\nDIFICULTAD: Moderada\nDURACIÓN:  2 horas\nTIPO DE RUTA: Circular \n\nAdvertencia\nEstamos en un entorno de montaña y la meteorología y sus circunstancias son medianamente previsibles. Si antes de empezar vemos que la ruta no va a ser segura\, podemos decidir cambiar el itinerario e incluso\, cancelar la actividad. \nPor favor\, trae la equipación adecuada\, si no\, es posible que\, por tu seguridad\, no puedas realizar la ruta. Si tienes dudas consúltanos.
URL:https://nordicamos.com/event/ruta-de-marcha-nordica-de-cantocochino-a-la-charca-verde/
LOCATION:Manzanares. La Pedriza. Parking de Cantocochino\, P4X3+PH Manzanares el Real\, Madrid
CATEGORIES:Actividad,Ruta del viernes
ATTACH;FMTTYPE=image/png:https://nordicamos.com/wp-content/uploads/2025/04/Ruta-de-marcha-nordica-a-la-charca-verde.png
ORGANIZER;CN="Nordicamos":MAILTO:info@nordicamos.com
END:VEVENT
BEGIN:VEVENT
DTSTART;TZID=Europe/Madrid:20250523T180000
DTEND;TZID=Europe/Madrid:20250523T200000
DTSTAMP:20260420T070243
CREATED:20250522T094408Z
LAST-MODIFIED:20260211T170910Z
UID:8493-1748023200-1748030400@nordicamos.com
SUMMARY:Ruta de marcha nórdica de Cantocochino a la Charca Verde
DESCRIPTION:Vamos a conocer uno de los lugares más populares del Parque de la Pedriza. La Charca verde está enclavada en un entorno precioso del Río Manzanares rodeada de rocas y cascadas. \nMenos mal que toda la zona está protegida y ya no se puede hacer lo que antaño hacía la gente degradando el lugar. \nEl borde superior indica el norte \nDescripción de la ruta de marcha nórdica de Cantochino a Piedra Partida\, Charca Verde y mirador del Manzanares\nEmpezamos en el parking de Cantocochino\, ya sin chiringuitos\, donde tomar una bebida fresca al terminar la ruta de marcha nórdica. \nCruzamos el puente sobre el Río Manzanares y avanzamos unos metros por la Autopista para abandonarla tomando un sendero que nos lleva por el pinar en ascenso suave. \nSendero \nNos encontraremos con un tramo que tiene muchas raíces\, que nos servirán de escaleras y bastante piedra suelta. Aumentar la atención. \nDespués de atravesar un bosque de pinos llegamos al vivero que bordeamos para llegar al primer punto de interés de la ruta Piedra Partida. \nPiedra partida \n  \nDe ahí vamos al segundo punto\, la archiconocida\, Charcha Verde. Tendremos que avanzar con las dragoneras separadas de los bastones\, ya que hay alguna piedra que saltar. \nLa Charca Verde \nVolvemos sobre nuestros pasos y nos dirigimos hacia el puente del vivero para cruzar el río y subir al último punto\, el mirador desde el que veremos la fuerza del Manzanares. \nRío Manzanares \nCon la vista “nublada” de tanta belleza\, volvemos al puente del vivero para regresar al punto de partida de esta ruta de marcha nórdica\, esta vez\, por un camino que baja hacia el río y transcurre paralelo a él en algún tramo. \nCamino con raíces y piedras \nHay que tener precaución en algunas zonas con las piedras y las raíces de los árboles. \nQué llevar\n\nPara la ruta de la tarde es ACONSEJABLE LA LUZ FRONTAL\nRecuerda traer agua (mínimo un litro) para mantener una buena hidratación durante toda la ruta. Una hidratación correcta es necesaria para tener energía en el cuerpo y menos sensación de cansancio.\nBotas ligeras o zapatillas de montaña.  No traigas deportivas\, ya que la suela no está preparada para terreno montañoso y resbalan mucho.\nAntes de salir\, consulta la meteorología y trae algo de ropa de abrigo y si es necesario de agua o cortavientos.\nLa meteorología puede cambiar repentinamente en áreas de montaña y más vale ir prevenidos.\n\nDatos técnicos de la ruta\n\nDISTANCIA:  7\,1 Km\nDESNIVEL: 164 m\nDIFICULTAD: Moderada\nDURACIÓN:  2 horas\nTIPO DE RUTA: Circular \n\nAdvertencia\nEstamos en un entorno de montaña y la meteorología y sus circunstancias son medianamente previsibles. Si antes de empezar vemos que la ruta no va a ser segura\, podemos decidir cambiar el itinerario e incluso\, cancelar la actividad. \nPor favor\, trae la equipación adecuada\, si no\, es posible que\, por tu seguridad\, no puedas realizar la ruta. Si tienes dudas consúltanos.
URL:https://nordicamos.com/event/ruta-de-marcha-nordica-de-cantocochino-a-la-charca-verde-2/
LOCATION:Manzanares. La Pedriza. Parking de Cantocochino\, P4X3+PH Manzanares el Real\, Madrid
CATEGORIES:Actividad,Ruta del viernes
ATTACH;FMTTYPE=image/png:https://nordicamos.com/wp-content/uploads/2025/04/Ruta-de-marcha-nordica-a-la-charca-verde.png
ORGANIZER;CN="Nordicamos":MAILTO:info@nordicamos.com
END:VEVENT
END:VCALENDAR