BEGIN:VCALENDAR
VERSION:2.0
PRODID:-//Nordicamos - ECPv6.15.20//NONSGML v1.0//EN
CALSCALE:GREGORIAN
METHOD:PUBLISH
X-WR-CALNAME:Nordicamos
X-ORIGINAL-URL:https://nordicamos.com
X-WR-CALDESC:Eventos para Nordicamos
REFRESH-INTERVAL;VALUE=DURATION:PT1H
X-Robots-Tag:noindex
X-PUBLISHED-TTL:PT1H
BEGIN:VTIMEZONE
TZID:Europe/Madrid
BEGIN:DAYLIGHT
TZOFFSETFROM:+0100
TZOFFSETTO:+0200
TZNAME:CEST
DTSTART:20240331T010000
END:DAYLIGHT
BEGIN:STANDARD
TZOFFSETFROM:+0200
TZOFFSETTO:+0100
TZNAME:CET
DTSTART:20241027T010000
END:STANDARD
BEGIN:DAYLIGHT
TZOFFSETFROM:+0100
TZOFFSETTO:+0200
TZNAME:CEST
DTSTART:20250330T010000
END:DAYLIGHT
BEGIN:STANDARD
TZOFFSETFROM:+0200
TZOFFSETTO:+0100
TZNAME:CET
DTSTART:20251026T010000
END:STANDARD
BEGIN:DAYLIGHT
TZOFFSETFROM:+0100
TZOFFSETTO:+0200
TZNAME:CEST
DTSTART:20260329T010000
END:DAYLIGHT
BEGIN:STANDARD
TZOFFSETFROM:+0200
TZOFFSETTO:+0100
TZNAME:CET
DTSTART:20261025T010000
END:STANDARD
END:VTIMEZONE
BEGIN:VEVENT
DTSTART;TZID=Europe/Madrid:20250425T093000
DTEND;TZID=Europe/Madrid:20250425T120000
DTSTAMP:20260420T083032
CREATED:20250408T133448Z
LAST-MODIFIED:20260211T171156Z
UID:8071-1745573400-1745582400@nordicamos.com
SUMMARY:Ruta de marcha nórdica a la cantera de la grieta
DESCRIPTION:En estos pueblos llenos de canteras siempre hay algo que nos puede sorprender y este es uno de esos ejemplos. \nCon unas maravillosas vistas de la Pedriza y con un precioso paseo por la dehesa de Manzanares\, descubriremos un paraje diferente y sorprendente. \nEl borde superior indica el Norte \nDescripción de la ruta de marcha nórdica a la cantera de la grieta y la Dehesa Boyal\nAparcamos los coches en un espacio que se encuentra en el Camino Mendocino a Santiago. \nVistas desde el Parking \nEste camino parte de la iglesia de Santiago en Guadalajara y confluye con el camino de Madrid a Santiago en Manzanares. Se creó en 2016 y consta de 4 etapas en las que podemos practicar marcha nórdica. \nAvanzamos por esta ancha pista con precaución porque puede pasar algún que otro vehículo\, ya que el Camino va a diversas fincas y viviendas. \nCamino Mendocino \nEn un punto giramos a la izquierda y nos acercamos a un paso canadiense\, tras el cual\, tenemos que cruzar el arroyo de Cobertero por piedras. Nos ayudaremos de una cuerda atada entre árboles. \nPaso canadiense y arroyo al fondo \nTras este punto tomamos una camino más estrecho que abandonaremos para ir a visitar la curiosa cantera (de la cual no voy a poner ninguna foto para que te sorprenda). \nVolvemos al camino y avanzamos hacia la Dehesa  y tras atravesar una cancela entramos en ella paseando por el llamado Camino  de Miraflores de la Sierra. \nDehesa de Manzanares \nAbandonamos los caminos y\, Dehesa a través\, volvemos a la cerca para regresar por donde hemos venido\, atravesando nuevamente el arroyo. \nRefugio de pastores \nQué llevar\n\nPara la ruta de la tarde es ACONSEJABLE LA LUZ FRONTAL\nRecuerda traer agua (mínimo un litro) para mantener una buena hidratación durante toda la ruta. Una hidratación correcta es necesaria para tener energía en el cuerpo y menos sensación de cansancio.\nAlgo de picar para mantener tus reservas de glucosa.\nBotas ligeras o zapatillas de montaña.  No traigas deportivas\, ya que la suela no está preparada para terreno montañoso y resbalan mucho.\nAntes de salir\, consulta la meteorología y trae algo de ropa de abrigo y si es necesario de agua o cortavientos.\nLa meteorología puede cambiar repentinamente en áreas de montaña y más vale ir prevenidos.\n\nDatos técnicos de la ruta\n\nDISTANCIA:  7\,4 Km\nDESNIVEL: 134 m\nDIFICULTAD: Fácil\nDURACIÓN:  2\,30 horas\nTIPO DE RUTA: Semicircular \n\nAdvertencia\nEstamos en un entorno de montaña y la meteorología y sus circunstancias son medianamente previsibles. Si antes de empezar vemos que la ruta no va a ser segura\, podemos decidir cambiar el itinerario e incluso\, cancelar la actividad. \nPor favor\, trae la equipación adecuada\, si no\, es posible que\, por tu seguridad\, no puedas realizar la ruta. Si tienes dudas consúltanos.
URL:https://nordicamos.com/event/ruta-de-marcha-nordica-a-la-cantera-de-la-grieta/
LOCATION:Manzanares. Parking Grieta\, Madrid\, España
CATEGORIES:Actividad,Ruta del viernes
ATTACH;FMTTYPE=image/png:https://nordicamos.com/wp-content/uploads/2025/04/Ruta-de-marcha-nordica-la-cantera-de-la-grieta.png
ORGANIZER;CN="Nordicamos":MAILTO:info@nordicamos.com
END:VEVENT
BEGIN:VEVENT
DTSTART;TZID=Europe/Madrid:20250425T093000
DTEND;TZID=Europe/Madrid:20250425T120000
DTSTAMP:20260420T083032
CREATED:20250408T133448Z
LAST-MODIFIED:20260211T171156Z
UID:8071-1745573400-1745582400@nordicamos.com
SUMMARY:Ruta de marcha nórdica a la cantera de la grieta
DESCRIPTION:En estos pueblos llenos de canteras siempre hay algo que nos puede sorprender y este es uno de esos ejemplos. \nCon unas maravillosas vistas de la Pedriza y con un precioso paseo por la dehesa de Manzanares\, descubriremos un paraje diferente y sorprendente. \nEl borde superior indica el Norte \nDescripción de la ruta de marcha nórdica a la cantera de la grieta y la Dehesa Boyal\nAparcamos los coches en un espacio que se encuentra en el Camino Mendocino a Santiago. \nVistas desde el Parking \nEste camino parte de la iglesia de Santiago en Guadalajara y confluye con el camino de Madrid a Santiago en Manzanares. Se creó en 2016 y consta de 4 etapas en las que podemos practicar marcha nórdica. \nAvanzamos por esta ancha pista con precaución porque puede pasar algún que otro vehículo\, ya que el Camino va a diversas fincas y viviendas. \nCamino Mendocino \nEn un punto giramos a la izquierda y nos acercamos a un paso canadiense\, tras el cual\, tenemos que cruzar el arroyo de Cobertero por piedras. Nos ayudaremos de una cuerda atada entre árboles. \nPaso canadiense y arroyo al fondo \nTras este punto tomamos una camino más estrecho que abandonaremos para ir a visitar la curiosa cantera (de la cual no voy a poner ninguna foto para que te sorprenda). \nVolvemos al camino y avanzamos hacia la Dehesa  y tras atravesar una cancela entramos en ella paseando por el llamado Camino  de Miraflores de la Sierra. \nDehesa de Manzanares \nAbandonamos los caminos y\, Dehesa a través\, volvemos a la cerca para regresar por donde hemos venido\, atravesando nuevamente el arroyo. \nRefugio de pastores \nQué llevar\n\nPara la ruta de la tarde es ACONSEJABLE LA LUZ FRONTAL\nRecuerda traer agua (mínimo un litro) para mantener una buena hidratación durante toda la ruta. Una hidratación correcta es necesaria para tener energía en el cuerpo y menos sensación de cansancio.\nAlgo de picar para mantener tus reservas de glucosa.\nBotas ligeras o zapatillas de montaña.  No traigas deportivas\, ya que la suela no está preparada para terreno montañoso y resbalan mucho.\nAntes de salir\, consulta la meteorología y trae algo de ropa de abrigo y si es necesario de agua o cortavientos.\nLa meteorología puede cambiar repentinamente en áreas de montaña y más vale ir prevenidos.\n\nDatos técnicos de la ruta\n\nDISTANCIA:  7\,4 Km\nDESNIVEL: 134 m\nDIFICULTAD: Fácil\nDURACIÓN:  2\,30 horas\nTIPO DE RUTA: Semicircular \n\nAdvertencia\nEstamos en un entorno de montaña y la meteorología y sus circunstancias son medianamente previsibles. Si antes de empezar vemos que la ruta no va a ser segura\, podemos decidir cambiar el itinerario e incluso\, cancelar la actividad. \nPor favor\, trae la equipación adecuada\, si no\, es posible que\, por tu seguridad\, no puedas realizar la ruta. Si tienes dudas consúltanos.
URL:https://nordicamos.com/event/ruta-de-marcha-nordica-a-la-cantera-de-la-grieta/
LOCATION:Manzanares. Parking Grieta\, Madrid\, España
CATEGORIES:Actividad,Ruta del viernes
ATTACH;FMTTYPE=image/png:https://nordicamos.com/wp-content/uploads/2025/04/Ruta-de-marcha-nordica-la-cantera-de-la-grieta.png
ORGANIZER;CN="Nordicamos":MAILTO:info@nordicamos.com
END:VEVENT
END:VCALENDAR