BEGIN:VCALENDAR
VERSION:2.0
PRODID:-//Nordicamos - ECPv6.15.20//NONSGML v1.0//EN
CALSCALE:GREGORIAN
METHOD:PUBLISH
X-ORIGINAL-URL:https://nordicamos.com
X-WR-CALDESC:Eventos para Nordicamos
REFRESH-INTERVAL;VALUE=DURATION:PT1H
X-Robots-Tag:noindex
X-PUBLISHED-TTL:PT1H
BEGIN:VTIMEZONE
TZID:Europe/Madrid
BEGIN:DAYLIGHT
TZOFFSETFROM:+0100
TZOFFSETTO:+0200
TZNAME:CEST
DTSTART:20250330T010000
END:DAYLIGHT
BEGIN:STANDARD
TZOFFSETFROM:+0200
TZOFFSETTO:+0100
TZNAME:CET
DTSTART:20251026T010000
END:STANDARD
BEGIN:DAYLIGHT
TZOFFSETFROM:+0100
TZOFFSETTO:+0200
TZNAME:CEST
DTSTART:20260329T010000
END:DAYLIGHT
BEGIN:STANDARD
TZOFFSETFROM:+0200
TZOFFSETTO:+0100
TZNAME:CET
DTSTART:20261025T010000
END:STANDARD
BEGIN:DAYLIGHT
TZOFFSETFROM:+0100
TZOFFSETTO:+0200
TZNAME:CEST
DTSTART:20270328T010000
END:DAYLIGHT
BEGIN:STANDARD
TZOFFSETFROM:+0200
TZOFFSETTO:+0100
TZNAME:CET
DTSTART:20271031T010000
END:STANDARD
END:VTIMEZONE
BEGIN:VEVENT
DTSTART;TZID=Europe/Madrid:20260508T093000
DTEND;TZID=Europe/Madrid:20260508T113000
DTSTAMP:20260419T143727
CREATED:20260416T190223Z
LAST-MODIFIED:20260416T190223Z
UID:11797-1778232600-1778239800@nordicamos.com
SUMMARY:Ruta de marcha nórdica al embalse de los Irrios
DESCRIPTION:Esta ruta transcurre\, en buena parte\, entre Cambroños\, piorno endémico de la Sierra de Guadarrama\, la de Gata y Peña Francia y que encuentra en el pueblo de Los Molinos la mayor concentración de la zona. Esperamos encontrar el Cambroño en flor para disfrutar de su belleza \nEl borde superior indica el norte \n  \nDescripción de la ruta de marcha nórdica al Embalse de los Irrios\nEmpezamos ascendiendo por pista hasta entrar en una calle del pueblo que nos dejará en la Cañada Real de Merinas\, punto en el que podremos observar uno de los nidos de ametralladora que existen en la zona. \nNido de ametralladora \nSeguimos ascendiendo por la pista y la abandonamos en un cruce a la derecha para tomar una serie de caminos y sendas\, con algún tramo de piedras en el recorrido con el que tendremos  precaución\, que nos acercan a otra pista que nos lleva al puente de las cuevas. \nPuente de las Cuevas \nSeguimos camino adelante siempre en ascenso Para volver a desviarnos y cruzando unas lajas de piedra (ojo\, si están mojadas pueden resbalar) nos acercamos por un sendero entre Cambroños al embalse de los Irrios con su presa. \nEmbalse de los Irrios \nA partir de este punto iniciamos la bajada por pista para abandonarla por un camino entre fincas que nos devuelve al Camino de Villareal\, otra pista ancha y cómoda. \nPista ancha \nAvanzamos por la pista paralela al Arroyo de la Peñota y tomamos un nuevo camino a la izquierda que nos lleva al punto de encuentro tras atravesar unos amplios prados. \nPradera \nQué llevar\n\nPara la ruta de la tarde es ACONSEJABLE LA LUZ FRONTAL\nRecuerda traer agua (mínimo un litro y medio) para mantener una buena hidratación durante toda la ruta. Una hidratación correcta es necesaria para tener energía en el cuerpo y menos sensación de cansancio.\nAlgo de picar para mantener tus reservas de glucosa.\nBotas ligeras o zapatillas de montaña.  No traigas deportivas\, ya que la suela no está preparada para terreno montañoso y resbalan mucho.\nAntes de salir\, consulta la meteorología y trae algo de ropa de abrigo y si es necesario de agua o cortavientos.\nLa meteorología puede cambiar repentinamente en áreas de montaña y más vale ir prevenidos.\n\nDatos técnicos de la ruta\n\nDISTANCIA:  7\,8 Km\nDESNIVEL: 162 m\nDIFICULTAD: Moderada\nDURACIÓN:  2 horas\nTIPO DE RUTA: Circular \n\nAdvertencia\nEstamos en un entorno de montaña y la meteorología y sus circunstancias son medianamente previsibles. Si antes de empezar vemos que la ruta no va a ser segura\, podemos decidir cambiar el itinerario e incluso\, cancelar la actividad. \nPor favor\, trae la equipación adecuada\, si no\, es posible que\, por tu seguridad\, no puedas realizar la ruta. Si tienes dudas consúltanos.
URL:https://nordicamos.com/event/ruta-de-marcha-nordica-al-embalse-de-los-irrios-mayo-2026/
LOCATION:Los Molinos. Paseo Antonio Fernandez Solá\, PW68+5PX Los Molinos
CATEGORIES:Actividad,Ruta del viernes
ATTACH;FMTTYPE=image/png:https://nordicamos.com/wp-content/uploads/2026/04/Ruta-de-marcha-nordica-a-los-IRRIOS.png
ORGANIZER;CN="Nordicamos":MAILTO:info@nordicamos.com
END:VEVENT
END:VCALENDAR