BEGIN:VCALENDAR
VERSION:2.0
PRODID:-//Nordicamos - ECPv6.15.20//NONSGML v1.0//EN
CALSCALE:GREGORIAN
METHOD:PUBLISH
X-WR-CALNAME:Nordicamos
X-ORIGINAL-URL:https://nordicamos.com
X-WR-CALDESC:Eventos para Nordicamos
REFRESH-INTERVAL;VALUE=DURATION:PT1H
X-Robots-Tag:noindex
X-PUBLISHED-TTL:PT1H
BEGIN:VTIMEZONE
TZID:Europe/Madrid
BEGIN:DAYLIGHT
TZOFFSETFROM:+0100
TZOFFSETTO:+0200
TZNAME:CEST
DTSTART:20250330T010000
END:DAYLIGHT
BEGIN:STANDARD
TZOFFSETFROM:+0200
TZOFFSETTO:+0100
TZNAME:CET
DTSTART:20251026T010000
END:STANDARD
BEGIN:DAYLIGHT
TZOFFSETFROM:+0100
TZOFFSETTO:+0200
TZNAME:CEST
DTSTART:20260329T010000
END:DAYLIGHT
BEGIN:STANDARD
TZOFFSETFROM:+0200
TZOFFSETTO:+0100
TZNAME:CET
DTSTART:20261025T010000
END:STANDARD
BEGIN:DAYLIGHT
TZOFFSETFROM:+0100
TZOFFSETTO:+0200
TZNAME:CEST
DTSTART:20270328T010000
END:DAYLIGHT
BEGIN:STANDARD
TZOFFSETFROM:+0200
TZOFFSETTO:+0100
TZNAME:CET
DTSTART:20271031T010000
END:STANDARD
END:VTIMEZONE
BEGIN:VEVENT
DTSTART;TZID=Europe/Madrid:20260516T100000
DTEND;TZID=Europe/Madrid:20260516T180000
DTSTAMP:20260422T093636
CREATED:20260416T185002Z
LAST-MODIFIED:20260417T054357Z
UID:11792-1778925600-1778954400@nordicamos.com
SUMMARY:Ruta de marcha nórdica y paella por la Jarosa
DESCRIPTION:Nos juntamos para disfrutar del monte y de una buena paella. Disfrutar de la naturaleza y de la compañía de otros compañeros de la escuela. \nRuta de marcha nórdica por la Jarosa\nQué llevar\n\nTU BEBIDA\nPARA NO GENERAR BASURA TE PEDIMOS QUE TE TRAIGAS TU PLATO Y TUS CUBIERTOS\nSi puedes traer algo para sentarte\, tipo aislante pequeño\, o una banqueta plegable estaría genial.\nRecuerda traer agua (mínimo dos litros) para mantener una buena hidratación durante toda la ruta. Una hidratación correcta es necesaria para tener energía en el cuerpo y menos sensación de cansancio.\nBotas ligeras o zapatillas de montaña.  No traigas deportivas\, ya que la suela no está preparada para terreno montañoso y resbalan mucho.\nAntes de salir\, consulta la meteorología y trae algo de ropa de abrigo y si es necesario de agua o cortavientos.\nLa meteorología puede cambiar repentinamente en áreas de montaña y más vale ir prevenidos.\n\nDatos técnicos de la ruta\n\nDISTANCIA:\nDESNIVEL:\nDIFICULTAD: \nDURACIÓN: \nTIPO DE RUTA: Circular\n\nAdvertencia\nEstamos en un entorno de montaña y la meteorología y sus circunstancias son medianamente previsibles. Si antes de empezar vemos que la ruta no va a ser segura\, podemos decidir cambiar el itinerario e incluso\, cancelar la actividad. \nPor favor\, trae la equipación adecuada\, si no\, es posible que\, por tu seguridad\, no puedas realizar la ruta. Si tienes dudas consúltanos.
URL:https://nordicamos.com/event/ruta-de-marcha-nordica-y-paella-por-la-jarosa/
LOCATION:Guadarrama. Parking  de la ermita de la Jarosa\, Embalse de La Jarosa\, Carr. de La Jarosa\, 1\, 28440 Guadarrama\, Madrid\, Madrid\, España
CATEGORIES:Actividad,Rutas de fin de semana
ATTACH;FMTTYPE=image/png:https://nordicamos.com/wp-content/uploads/2026/04/Marcha-Nordica-Ruta-Paella-en-La-Jarosa.png
ORGANIZER;CN="Nordicamos":MAILTO:info@nordicamos.com
END:VEVENT
END:VCALENDAR