BEGIN:VCALENDAR
VERSION:2.0
PRODID:-//Nordicamos - ECPv6.15.20//NONSGML v1.0//EN
CALSCALE:GREGORIAN
METHOD:PUBLISH
X-ORIGINAL-URL:https://nordicamos.com
X-WR-CALDESC:Eventos para Nordicamos
REFRESH-INTERVAL;VALUE=DURATION:PT1H
X-Robots-Tag:noindex
X-PUBLISHED-TTL:PT1H
BEGIN:VTIMEZONE
TZID:Europe/Madrid
BEGIN:DAYLIGHT
TZOFFSETFROM:+0100
TZOFFSETTO:+0200
TZNAME:CEST
DTSTART:20250330T010000
END:DAYLIGHT
BEGIN:STANDARD
TZOFFSETFROM:+0200
TZOFFSETTO:+0100
TZNAME:CET
DTSTART:20251026T010000
END:STANDARD
BEGIN:DAYLIGHT
TZOFFSETFROM:+0100
TZOFFSETTO:+0200
TZNAME:CEST
DTSTART:20260329T010000
END:DAYLIGHT
BEGIN:STANDARD
TZOFFSETFROM:+0200
TZOFFSETTO:+0100
TZNAME:CET
DTSTART:20261025T010000
END:STANDARD
BEGIN:DAYLIGHT
TZOFFSETFROM:+0100
TZOFFSETTO:+0200
TZNAME:CEST
DTSTART:20270328T010000
END:DAYLIGHT
BEGIN:STANDARD
TZOFFSETFROM:+0200
TZOFFSETTO:+0100
TZNAME:CET
DTSTART:20271031T010000
END:STANDARD
END:VTIMEZONE
BEGIN:VEVENT
DTSTART;TZID=Europe/Madrid:20260227T100000
DTEND;TZID=Europe/Madrid:20260227T120000
DTSTAMP:20260424T104150
CREATED:20260119T170452Z
LAST-MODIFIED:20260210T163400Z
UID:10857-1772186400-1772193600@nordicamos.com
SUMMARY:Ruta de marcha nórdica a la calleja de los Poyales
DESCRIPTION:El cordel de la Calleja de los Poyales era una antigua ruta de pastoreo en la Sierra de Madrid. Terminando en la pradera de los Guindos desde la cual podemos llegar a la pedanía de Tablada. \nEl borde superior indica el norte \nDescripción de la ruta de marcha nórdica circular al cordel de la Calleja de los Poyales\nIniciamos la ruta en una de las calles de la urbanización Las Angustias. Al finalizar la calle giramos a la derecha y\, aunque sigue habiendo viviendas\, entramos en el Cordel de la Calleja de los Poyales \nCordel de la Calleja de los Poyales \nA la altura del Retamar giramos a la izquierda metiéndonos en un pequeño sendero que nos deja en la puerta de la Yeguada Sabariegos. En este punto podemos ver la residencia militar a modo de castillo austriaco. \n¿Residencia o castillo? \nContinuamos por la pista y tras atravesar el primer paso canadiense\, vamos bordeando la dehesa de los Poyales hasta el segundo paso. \nDehesa \nComenzamos  la bajada por otra variante del cordel que nos dejará en la urbanización Miranieves. A los pocos metros llegaremos a la calle de partida. \nPista de vuelta \nQué llevar\n\nOBLIGATORIA LA LUZ FRONTAL para la ruta de la tarde.\nRecuerda traer agua (mínimo un litro) para mantener una buena hidratación durante toda la ruta. Una hidratación correcta es necesaria para tener energía en el cuerpo y menos sensación de cansancio.\nAlgo de picar para mantener tus reservas de glucosa.\nBotas ligeras o zapatillas de montaña.  No traigas deportivas\, ya que la suela no está preparada para terreno montañoso y resbalan mucho.\nAntes de salir\, consulta la meteorología y trae algo de ropa de abrigo y si es necesario de agua o cortavientos.\nLa meteorología puede cambiar repentinamente en áreas de montaña y más vale ir prevenidos.\n\nDatos técnicos de la ruta\n\nDISTANCIA: 8\,1 Km\nDESNIVEL: 177 m\nDIFICULTAD: Fácil\nDURACIÓN: 2 horas\nTIPO DE RUTA: Circular\n\nAdvertencia\nEstamos en un entorno de montaña y la meteorología y sus circunstancias son medianamente previsibles. Si antes de empezar vemos que la ruta no va a ser segura\, podemos decidir cambiar el itinerario e incluso\, cancelar la actividad. \nPor favor\, trae la equipación adecuada\, si no\, es posible que\, por tu seguridad\, no puedas realizar la ruta. Si tienes dudas consúltanos.
URL:https://nordicamos.com/event/ruta-de-marcha-nordica-a-la-calleja-de-los-poyales/
LOCATION:Guadarrama. Calle de Ruperto Chapi\, MWH3+V2X Guadarrama
CATEGORIES:Actividad,Ruta del viernes
ATTACH;FMTTYPE=image/png:https://nordicamos.com/wp-content/uploads/2026/01/Ruta-de-marcha-nordica-clleja-de-Poyales.png
ORGANIZER;CN="Nordicamos":MAILTO:info@nordicamos.com
END:VEVENT
END:VCALENDAR