BEGIN:VCALENDAR
VERSION:2.0
PRODID:-//Nordicamos - ECPv6.15.20//NONSGML v1.0//EN
CALSCALE:GREGORIAN
METHOD:PUBLISH
X-ORIGINAL-URL:https://nordicamos.com
X-WR-CALDESC:Eventos para Nordicamos
REFRESH-INTERVAL;VALUE=DURATION:PT1H
X-Robots-Tag:noindex
X-PUBLISHED-TTL:PT1H
BEGIN:VTIMEZONE
TZID:Europe/Madrid
BEGIN:DAYLIGHT
TZOFFSETFROM:+0100
TZOFFSETTO:+0200
TZNAME:CEST
DTSTART:20250330T010000
END:DAYLIGHT
BEGIN:STANDARD
TZOFFSETFROM:+0200
TZOFFSETTO:+0100
TZNAME:CET
DTSTART:20251026T010000
END:STANDARD
BEGIN:DAYLIGHT
TZOFFSETFROM:+0100
TZOFFSETTO:+0200
TZNAME:CEST
DTSTART:20260329T010000
END:DAYLIGHT
BEGIN:STANDARD
TZOFFSETFROM:+0200
TZOFFSETTO:+0100
TZNAME:CET
DTSTART:20261025T010000
END:STANDARD
BEGIN:DAYLIGHT
TZOFFSETFROM:+0100
TZOFFSETTO:+0200
TZNAME:CEST
DTSTART:20270328T010000
END:DAYLIGHT
BEGIN:STANDARD
TZOFFSETFROM:+0200
TZOFFSETTO:+0100
TZNAME:CET
DTSTART:20271031T010000
END:STANDARD
END:VTIMEZONE
BEGIN:VEVENT
DTSTART;TZID=Europe/Madrid:20260220T100000
DTEND;TZID=Europe/Madrid:20260220T120000
DTSTAMP:20260419T151547
CREATED:20260118T205950Z
LAST-MODIFIED:20260210T163530Z
UID:10851-1771581600-1771588800@nordicamos.com
SUMMARY:Ruta de marcha nórdica del Cerrillo a Valmayor
DESCRIPTION:El Embalse de Valmayor es el segundo en extensión y acumulación de agua de la Comunidad de Madrid\,  abarcando los términos de: Valdemorillo\, Galapagar\, Colmenarejo y El Escorial. \nRuta de marcha nórdica desde la Ermita del Cerrillo hasta el embalse de Valmayor\n  \nEl borde de la izquierda indica el norte \nEn esta ruta de marcha nórdica caminaremos por un nuevo tramo de la Cañada Real Segoviana\, de la que ya hemos nordiqueado algún trecho. \nDescripción de la ruta\nEmpezamos esta ruta en una de las calles de la Colonia España\, que da al Paseo de la Cañada. \nA los pocos metros\, subimos por un puente que atraviesa las vías del tren y que nos saca de la zona urbana\, siguiendo una pista que dejamos enseguida para tomar a la izquierda otra\, un poco más estrecha y que nos lleva directamente a la Ermita del Cerrillo. \nErmita del Cerrillo \nDesde ahí\, avanzamos por el llamado Cordel de las Suertes Nuevas\, que es el nombre que recibe este tramo de la ancha cañada y que por una pista situada al margen derecho y bastante asequible para practicar una buena técnica de marcha nórdica\, nos deja al borde de una calle de dos sentidos que tenemos que cruzar con precaución. \nEntramos en el parking del embalse y continuamos hacia abajo hasta llegar al límite del agua e intentar adivinar\, si hace un día despejado\, el final del embalse de Valmayor\, uno de los grandes suministros de agua de la Comunidad de Madrid. \nEmbalse de Valmayor \nVolvemos por una senda hacia el parking y cruzamos nuevamente\, con mucha precaución\, la calle  para volver por la pista de bajada hasta coger un pequeño desvío hacia la izquierda. \nAhora subimos por la margen izquierda de la cañada y en un punto determinado\, giramos más a la izquierda en dirección a Navalquejigo\, caminando por un sendero más estrecho y rodeado de jaras\, retama y pequeñas encinas que nos deja en la zona del Conjuro con sus paisajes típicos de dehesa. \nPaisaje de dehesa \nAl pasar una puerta giramos a la derecha casi 180º e iniciamos un camino de subida un poco más pronunciada\, hacia la Ermita. \nPuerta \nAl llegar a la explanada de la Ermita del Cerrillo\, nos dirigimos\, nuevamente\, hacia el puente que nos dejará en el  punto de inicio. \nPuente sobre las vías del tren \n  \nQué llevar\n\nPara la ruta de la tarde es OBLIGATORIA LA LUZ FRONTAL\nRecuerda traer agua (mínimo un litro) para mantener una buena hidratación durante toda la ruta. Una hidratación correcta es necesaria para tener energía en el cuerpo y menos sensación de cansancio.\nAlgo de picar para mantener tus reservas de glucosa.\nBotas ligeras o zapatillas de montaña.  No traigas deportivas\, ya que la suela no está preparada para terreno montañoso y resbalan mucho.\nAntes de salir\, consulta la meteorología y trae algo de ropa de abrigo y si es necesario de agua o cortavientos.\nLa meteorología puede cambiar repentinamente en áreas de montaña y más vale ir prevenidos.\n\nDatos técnicos de la ruta\n\nDISTANCIA: 8\,2 Km\nDESNIVEL:100 m\nDIFICULTAD: Fácil\nDURACIÓN: 2\,20 horas\nTIPO DE RUTA: Circular
URL:https://nordicamos.com/event/ruta-de-marcha-nordica-del-cerrillo-a-valmayor-2/
LOCATION:Galapagar. Calle Colonia España\, España
CATEGORIES:Actividad,Ruta del viernes
ATTACH;FMTTYPE=image/png:https://nordicamos.com/wp-content/uploads/2026/01/Ruta-de-marcha-nordica-a-Valmayor.png
ORGANIZER;CN="Nordicamos":MAILTO:info@nordicamos.com
END:VEVENT
END:VCALENDAR