BEGIN:VCALENDAR
VERSION:2.0
PRODID:-//Nordicamos - ECPv6.15.20//NONSGML v1.0//EN
CALSCALE:GREGORIAN
METHOD:PUBLISH
X-ORIGINAL-URL:https://nordicamos.com
X-WR-CALDESC:Eventos para Nordicamos
REFRESH-INTERVAL;VALUE=DURATION:PT1H
X-Robots-Tag:noindex
X-PUBLISHED-TTL:PT1H
BEGIN:VTIMEZONE
TZID:Europe/Madrid
BEGIN:DAYLIGHT
TZOFFSETFROM:+0100
TZOFFSETTO:+0200
TZNAME:CEST
DTSTART:20240331T010000
END:DAYLIGHT
BEGIN:STANDARD
TZOFFSETFROM:+0200
TZOFFSETTO:+0100
TZNAME:CET
DTSTART:20241027T010000
END:STANDARD
BEGIN:DAYLIGHT
TZOFFSETFROM:+0100
TZOFFSETTO:+0200
TZNAME:CEST
DTSTART:20250330T010000
END:DAYLIGHT
BEGIN:STANDARD
TZOFFSETFROM:+0200
TZOFFSETTO:+0100
TZNAME:CET
DTSTART:20251026T010000
END:STANDARD
BEGIN:DAYLIGHT
TZOFFSETFROM:+0100
TZOFFSETTO:+0200
TZNAME:CEST
DTSTART:20260329T010000
END:DAYLIGHT
BEGIN:STANDARD
TZOFFSETFROM:+0200
TZOFFSETTO:+0100
TZNAME:CET
DTSTART:20261025T010000
END:STANDARD
END:VTIMEZONE
BEGIN:VEVENT
DTSTART;TZID=Europe/Madrid:20251108T103000
DTEND;TZID=Europe/Madrid:20251108T120000
DTSTAMP:20260422T063558
CREATED:20251016T154625Z
LAST-MODIFIED:20260210T164735Z
UID:9822-1762597800-1762603200@nordicamos.com
SUMMARY:Taller de Nordic Dance
DESCRIPTION:Marchamos\, bailamos\, marchamos\, bailamos siempre con nuestros bastones. \nBuena música\, diversión\, risas. \nMarcha nórdica y baile\nNos preguntamos ¿por qué no combinar dos actividades divertidas y beneficiosas tanto para el cuerpo como para la mente? En este taller nos atrevemos a practicar marcha nórdica siguiendo diferentes coreografías donde el movimiento\, la coordinación y la diversión sean la base de esta jornada. \nNo te preocupes\, esta postura no hay que realizarla \nPrepárate para soltar el cuerpo y fluir con la música. Los pasos serán sencillos y sabrás ejecutarlos perfectamente. \nNo importa que sepas o no bailar\, lo más importante es disfrutar como críos y dejar la vergüenza a un lado\, siempre acompañados de nuestros bastones. \nNiños bailando \nDisfrutar y sonreír\, esa es la premisa. \n 
URL:https://nordicamos.com/event/taller-de-nordic-dance-noviembre-2025/
LOCATION:C.Villalba. Parking II Dehesa de Villalba\, MX2X+H9 Collado Villalba\, Madrid
CATEGORIES:Actividad,Salud,Talleres de fin de semana
ATTACH;FMTTYPE=image/png:https://nordicamos.com/wp-content/uploads/2025/10/Taller-Nordic-DANCE-8-11.png
ORGANIZER;CN="Nordicamos":MAILTO:info@nordicamos.com
END:VEVENT
END:VCALENDAR