BEGIN:VCALENDAR
VERSION:2.0
PRODID:-//Nordicamos - ECPv6.15.20//NONSGML v1.0//EN
CALSCALE:GREGORIAN
METHOD:PUBLISH
X-ORIGINAL-URL:https://nordicamos.com
X-WR-CALDESC:Eventos para Nordicamos
REFRESH-INTERVAL;VALUE=DURATION:PT1H
X-Robots-Tag:noindex
X-PUBLISHED-TTL:PT1H
BEGIN:VTIMEZONE
TZID:Europe/Madrid
BEGIN:DAYLIGHT
TZOFFSETFROM:+0100
TZOFFSETTO:+0200
TZNAME:CEST
DTSTART:20240331T010000
END:DAYLIGHT
BEGIN:STANDARD
TZOFFSETFROM:+0200
TZOFFSETTO:+0100
TZNAME:CET
DTSTART:20241027T010000
END:STANDARD
BEGIN:DAYLIGHT
TZOFFSETFROM:+0100
TZOFFSETTO:+0200
TZNAME:CEST
DTSTART:20250330T010000
END:DAYLIGHT
BEGIN:STANDARD
TZOFFSETFROM:+0200
TZOFFSETTO:+0100
TZNAME:CET
DTSTART:20251026T010000
END:STANDARD
BEGIN:DAYLIGHT
TZOFFSETFROM:+0100
TZOFFSETTO:+0200
TZNAME:CEST
DTSTART:20260329T010000
END:DAYLIGHT
BEGIN:STANDARD
TZOFFSETFROM:+0200
TZOFFSETTO:+0100
TZNAME:CET
DTSTART:20261025T010000
END:STANDARD
END:VTIMEZONE
BEGIN:VEVENT
DTSTART;TZID=Europe/Madrid:20250125T103000
DTEND;TZID=Europe/Madrid:20250125T120000
DTSTAMP:20260423T010416
CREATED:20250105T204030Z
LAST-MODIFIED:20250105T204352Z
UID:7141-1737801000-1737806400@nordicamos.com
SUMMARY:Taller de Marcha Nórdica y CardioRaktor
DESCRIPTION:¿Has oido hablar de los Raktores? \nLos Raktores son un dispositivo que te ayuda a trabajar la musculatura del tren superior con un entrenamiento Pliométrico. \n¿Que es la pliometría?\nEs un tipo de entrenamiento consistente en movimientos rápidos\, cortos e intensos que aportan rapidez\, velocidad y fuerza a la persona que lo realiza. \nRaktores \nLos Raktores nos ayudan a ejecutar este entrenamiento ya que en su interior llevan un tipo de arena que nos obliga a vencer la fuerza centrífuga del movimiento realizando un esfuerzo adicional que\, combinado con la rapidez\, aporta un trabajo intenso a la musculatura. \nNora imparte este taller de trabajo cardiovascular y de fuerza con su alegría y marcha características. \n¡¡Prepárate para trabajar a tope!!
URL:https://nordicamos.com/event/taller-de-marcha-nordica-y-cardioraktor/
LOCATION:C.Villalba. Parking II Dehesa de Villalba\, MX2X+H9 Collado Villalba\, Madrid
CATEGORIES:Actividad,Salud,Talleres de fin de semana
ATTACH;FMTTYPE=image/png:https://nordicamos.com/wp-content/uploads/2025/01/aller-CardioRaktor-251-1.png
ORGANIZER;CN="Nordicamos":MAILTO:info@nordicamos.com
END:VEVENT
END:VCALENDAR