BEGIN:VCALENDAR
VERSION:2.0
PRODID:-//Nordicamos - ECPv6.15.20//NONSGML v1.0//EN
CALSCALE:GREGORIAN
METHOD:PUBLISH
X-ORIGINAL-URL:https://nordicamos.com
X-WR-CALDESC:Eventos para Nordicamos
REFRESH-INTERVAL;VALUE=DURATION:PT1H
X-Robots-Tag:noindex
X-PUBLISHED-TTL:PT1H
BEGIN:VTIMEZONE
TZID:Europe/Madrid
BEGIN:DAYLIGHT
TZOFFSETFROM:+0100
TZOFFSETTO:+0200
TZNAME:CEST
DTSTART:20240331T010000
END:DAYLIGHT
BEGIN:STANDARD
TZOFFSETFROM:+0200
TZOFFSETTO:+0100
TZNAME:CET
DTSTART:20241027T010000
END:STANDARD
BEGIN:DAYLIGHT
TZOFFSETFROM:+0100
TZOFFSETTO:+0200
TZNAME:CEST
DTSTART:20250330T010000
END:DAYLIGHT
BEGIN:STANDARD
TZOFFSETFROM:+0200
TZOFFSETTO:+0100
TZNAME:CET
DTSTART:20251026T010000
END:STANDARD
BEGIN:DAYLIGHT
TZOFFSETFROM:+0100
TZOFFSETTO:+0200
TZNAME:CEST
DTSTART:20260329T010000
END:DAYLIGHT
BEGIN:STANDARD
TZOFFSETFROM:+0200
TZOFFSETTO:+0100
TZNAME:CET
DTSTART:20261025T010000
END:STANDARD
END:VTIMEZONE
BEGIN:VEVENT
DTSTART;TZID=Europe/Madrid:20251107T100000
DTEND;TZID=Europe/Madrid:20251107T120000
DTSTAMP:20260419T222738
CREATED:20251019T162728Z
LAST-MODIFIED:20260211T170059Z
UID:9873-1762509600-1762516800@nordicamos.com
SUMMARY:Ruta de marcha nórdica al Chaparral de las Viñas
DESCRIPTION:Desde esta ruta puedes observar una de las vistas más bonitas de la Pedriza del Manzanares y del conjunto de la Sierra de Madrid. \nAdemás de caminar por un típico Chaparral mediterráneo lleno de arbustos perennes adaptados\, incluso\, a los incendios forestales. \nEl borde superior indica el norte \nDescripción de la ruta de marcha nórdica de Samburiel al Chaparral de las Viñas\nEmpezamos en el área recreativa Chopera de Samburiel y a los pocos metros cruzaremos el río del mismo nombre para coger un camino que nos lleva a la Ladera de las Viñas con unas impresionantes vistas de la Pedriza\, del pueblo de Manzanares y del embalse de Santillana. \nVistas del embalse de Santillana y Manzanares \nEl camino está un poco degradado en algunos puntos por la acción del agua\, así que hay que extremar la atención. \nSalimos a una pista amplia por la que descendemos para abandonarla tras un paso canadiense y girando a la derecha subiremos por un nuevo tramo del camino de Madrid a Santiago. \nPista \nAccedemos a otra pista que abandonamos más adelante para dirigirnos hacia el chaparral haciendo una parada en unas rocas que harán de mirador de las bonitas vistas de la Sierra de Madrid. \nVistas de la Sierra de Madrid \nContinuamos la ruta de marcha nórdica adentrándonos en el Chaparral hasta salir por una estrecha puerta a una pista  con un desnivel negativo importante. Ojo con los resbalones por la tierra. \nRío Samburiel en el área recreativa \nLlegamos nuevamente al área recreativa\, donde finaliza la marcha. \nQué llevar\n\nOBLIGATORIA LA LUZ FRONTAL para la ruta de la tarde\nRecuerda traer agua (mínimo un litro) para mantener una buena hidratación durante toda la ruta. Una hidratación correcta es necesaria para tener energía en el cuerpo y menos sensación de cansancio.\nAlgo de picar para mantener tus reservas de glucosa.\nBotas ligeras o zapatillas de montaña.  No traigas deportivas\, ya que la suela no está preparada para terreno montañoso y resbalan mucho.\nAntes de salir\, consulta la meteorología y trae algo de ropa de abrigo y si es necesario de agua o cortavientos.\nLa meteorología puede cambiar repentinamente en áreas de montaña y más vale ir prevenidos.\n\nDatos técnicos de la ruta\n\nDISTANCIA:  7\,3 Km\nDESNIVEL: 185 m\nDIFICULTAD: Moderada\nDURACIÓN:  2 horas\nTIPO DE RUTA: Circular \n\nAdvertencia\nEstamos en un entorno de montaña y la meteorología y sus circunstancias son medianamente previsibles. Si antes de empezar vemos que la ruta no va a ser segura\, podemos decidir cambiar el itinerario e incluso\, cancelar la actividad. \nPor favor\, trae la equipación adecuada\, si no\, es posible que\, por tu seguridad\, no puedas realizar la ruta. Si tienes dudas consúltanos.
URL:https://nordicamos.com/event/ruta-de-marcha-nordica-al-chaparral-de-las-vinas-noviembre-2025/
LOCATION:El Boalo. Area recreativa Samburiel\, P474+QJ El Boalo\, Madrid
CATEGORIES:Actividad,Ruta del viernes
ATTACH;FMTTYPE=image/png:https://nordicamos.com/wp-content/uploads/2025/10/Ruta-de-marcha-nordica-al-Chaparral-de-las-vinas.png
ORGANIZER;CN="Nordicamos":MAILTO:info@nordicamos.com
END:VEVENT
BEGIN:VEVENT
DTSTART;TZID=Europe/Madrid:20251108T093000
DTEND;TZID=Europe/Madrid:20251108T133000
DTSTAMP:20260419T222738
CREATED:20251018T190353Z
LAST-MODIFIED:20260211T170145Z
UID:9859-1762594200-1762608600@nordicamos.com
SUMMARY:Ruta de marcha nórdica del Alto del León a los álamos blancos
DESCRIPTION:Una ruta con fuerte carácter montañero y en la que veremos algunas de las construcciones de defensa utilizadas en la Guerra Civil que se encuentran muy bien conservadas. \nEl borde superior indica el Norte \nDescripción de la Ruta de Marcha Nórdica desde el Alto del León hasta el cerro de los Álamos blancos\nIniciamos la ruta desde el parking del alto del León y tras atravesar un paso canadiense\, giramos a la derecha e iniciamos una fuerte subida por un terreno lleno de piedras\, momento en el que será mejor separar los bastones de nuestras dragoneras. \nCamino con bastante piedra \nLlegamos al Cerro Piñonero donde visitaremos una construcción muy curiosa.   \nConstrucción de la Guerra Civil. \nAvanzamos por una pista entre pinos en suave ascenso hasta el Collado de la mina. \nPista bordeada por pinos \nAbandonamos la pista a la izquierda y buscamos un sendero estrecho que inicia la bajada y que va a transcurriendo entre el pinar por una zona un tanto erosionada llegando a la boca de la mina.  \nBoca de la mina \nContinuamos  bajando por el sendero estrecho que resbala un poco. Tendremos que buscar las mejores opciones y separar los bastones nuevamente de las dragoneras hasta que la senda se suavice. \nFinalmente\, llegamos a una pista ancha que al poco abandonamos por la izquierda para subir por un sendero estrecho y muy empinado camino del Cerro de los Álamos blancos. \nPino catalogado como árbol singular. \nMás tarde nos encontramos con el Pino singular y llegamos a una nueva pista que nos devolverá al Alto del León. \nQué llevar\n\nRecuerda traer agua (mínimo un litro) para mantener una buena hidratación durante toda la ruta. Una hidratación correcta es necesaria para tener energía en el cuerpo y menos sensación de cansancio.\nAlgo de picar para mantener tus reservas de glucosa.\nBotas ligeras o zapatillas de montaña.  No traigas deportivas\, ya que la suela no está preparada para terreno montañoso y resbalan mucho.\nAntes de salir\, consulta la meteorología y trae ropa de abrigo y si es necesario de agua o cortavientos.\nLa meteorología puede cambiar repentinamente en áreas de montaña y más vale ir prevenidos.\n\nDatos técnicos de la ruta\n\nDISTANCIA: 12\,1 Km\nDESNIVEL: 453  m\nDIFICULTAD: Difícil (Si estás acostumbrado a caminar por la montaña\, quítale un grado)\nDURACIÓN: 4 horas aprox. \nTIPO DE RUTA: Circular.\n\nAdvertencia\nEstamos en un entorno de montaña y la meteorología y sus circunstancias son medianamente previsibles. Si antes de empezar vemos que la ruta no va a ser segura\, podemos decidir cambiar el itinerario e incluso\, cancelar la actividad.
URL:https://nordicamos.com/event/ruta-de-marcha-nordica-del-alto-del-leon-a-los-alamos-blancos/
LOCATION:Alto del León. Parking del Alto\, PV56+X6 Guadarrama
CATEGORIES:Actividad,Rutas de fin de semana
ATTACH;FMTTYPE=image/png:https://nordicamos.com/wp-content/uploads/2025/10/Ruta-deMarcha-Nordica-noviembre.png
ORGANIZER;CN="Nordicamos":MAILTO:info@nordicamos.com
END:VEVENT
END:VCALENDAR