BEGIN:VCALENDAR
VERSION:2.0
PRODID:-//Nordicamos - ECPv6.15.20//NONSGML v1.0//EN
CALSCALE:GREGORIAN
METHOD:PUBLISH
X-WR-CALNAME:Nordicamos
X-ORIGINAL-URL:https://nordicamos.com
X-WR-CALDESC:Eventos para Nordicamos
REFRESH-INTERVAL;VALUE=DURATION:PT1H
X-Robots-Tag:noindex
X-PUBLISHED-TTL:PT1H
BEGIN:VTIMEZONE
TZID:Europe/Madrid
BEGIN:DAYLIGHT
TZOFFSETFROM:+0100
TZOFFSETTO:+0200
TZNAME:CEST
DTSTART:20240331T010000
END:DAYLIGHT
BEGIN:STANDARD
TZOFFSETFROM:+0200
TZOFFSETTO:+0100
TZNAME:CET
DTSTART:20241027T010000
END:STANDARD
BEGIN:DAYLIGHT
TZOFFSETFROM:+0100
TZOFFSETTO:+0200
TZNAME:CEST
DTSTART:20250330T010000
END:DAYLIGHT
BEGIN:STANDARD
TZOFFSETFROM:+0200
TZOFFSETTO:+0100
TZNAME:CET
DTSTART:20251026T010000
END:STANDARD
BEGIN:DAYLIGHT
TZOFFSETFROM:+0100
TZOFFSETTO:+0200
TZNAME:CEST
DTSTART:20260329T010000
END:DAYLIGHT
BEGIN:STANDARD
TZOFFSETFROM:+0200
TZOFFSETTO:+0100
TZNAME:CET
DTSTART:20261025T010000
END:STANDARD
END:VTIMEZONE
BEGIN:VEVENT
DTSTART;TZID=Europe/Madrid:20251114T100000
DTEND;TZID=Europe/Madrid:20251114T120000
DTSTAMP:20260419T165918
CREATED:20251019T171033Z
LAST-MODIFIED:20260211T165955Z
UID:9877-1763114400-1763121600@nordicamos.com
SUMMARY:Ruta de marcha nórdica al pino de la cadena
DESCRIPTION:El camino hasta llegar al pino de la cadena tiene un encanto serrano y unas vistas incomparables. Además\, la historia del pino es francamente bonita \nEl borde superior indica el Norte \nDescripción de la ruta de marcha nórdica desde la Fonda Real al Pino de la Cadena.\nIniciamos la ruta en el Restaurante llamado La Fonda Real. \nDesde ahí tomaremos una pista amplia que nos llevará hasta un cercado. \nPista \nPoco después\, abandonamos esa pista para tomar un sendero estrecho entre jaras que sale a la derecha y no es muy visible. \nEn este tramo\, un poco pedregoso e incómodo por la vegetación\, tomamos altura y podemos admirar unas preciosas vistas del embalse de Navalmedio y del Cóncavo de Siete Picos. \nembalse de Navalmedio. \nSiguiendo el sendero\, en descenso y pasando por mares de helechos\, llegamos a la zona de los antiguos campamentos. \nBosque con helechos \nEn ese punto\, volvemos a girar a la derecha y tomamos altura de nuevo en una pendiente corta pero considerable. \nPino de la cadena \nLlegamos al pino de la cadena y solo nos queda regresar bajando por la amplia pista hacia el embalse y girando a la izquierda para seguir por la pista que nos devuelve a la Fonda. \n  \nQué llevar\n\n OBLIGATORIA LA LUZ FRONTAL para la ruta de la tarde.\nRecuerda traer agua (mínimo un litro) para mantener una buena hidratación durante toda la ruta. Una hidratación correcta es necesaria para tener energía en el cuerpo y menos sensación de cansancio.\nBotas ligeras o zapatillas de montaña.  No traigas deportivas\, ya que la suela no está preparada para terreno montañoso y resbalan mucho.\nAntes de salir\, consulta la meteorología y trae algo de ropa de abrigo y si es necesario de agua o cortavientos.\nLa meteorología puede cambiar repentinamente en áreas de montaña y más vale ir prevenidos.\n\nDatos técnicos de la ruta\n\nDISTANCIA: 8\,2 Km\nDESNIVEL:161 m\nDIFICULTAD: Moderada\nDURACIÓN: 2\,15 horas\nTIPO DE RUTA: Semicircular\n\nAdvertencia\nEstamos en un entorno de montaña y la meteorología y sus circunstancias son medianamente previsibles. Si antes de empezar vemos que la ruta no va a ser segura\, podemos decidir cambiar el itinerario e incluso\, cancelar la actividad. \nPor favor\, trae la equipación adecuada\, si no\, es posible que\, por tu seguridad\, no puedas realizar la ruta. Si tienes dudas consúltanos.
URL:https://nordicamos.com/event/ruta-de-marcha-nordica-al-pino-de-la-cadena-noviembre-2025/
LOCATION:Navacerrada. Parking Fonda Real\, PXPG+PQ8 Navacerrada\, Madrid\, España
CATEGORIES:Actividad,Ruta del viernes
ATTACH;FMTTYPE=image/png:https://nordicamos.com/wp-content/uploads/2025/10/Ruta-de-marcha-nordica-de-la-fonda-real-al-pino-de-la-cadena.png
ORGANIZER;CN="Nordicamos":MAILTO:info@nordicamos.com
END:VEVENT
END:VCALENDAR